BEGIN:VCALENDAR
VERSION:2.0
PRODID:-//wp-events-plugin.com//7.2.3.1//EN
TZID:America/New_York
X-WR-TIMEZONE:America/New_York
BEGIN:VEVENT
UID:278@breathemiami.us
DTSTART;TZID=America/New_York:20240120T180000
DTEND;TZID=America/New_York:20240120T200000
DTSTAMP:20240313T002033Z
URL:https://breathemiami.us/events/wellness-luxury-launch-massage/
SUMMARY:Wellness Luxury Launch & Massage
DESCRIPTION:Event Information:\n\n\n\n\n\n\n\n\n\n\n\n\n\n\n\n\n\n\n\n\n\n\
 n\n\n\nMake yourself the priority in the pursuit of well-being! Let's ushe
 r in 2024 with the Launch &amp\; Massage experience\, graciously hosted by
  Wellness Luxury. Your journey to relaxation and self-care begins right he
 re\, setting the tone for a rejuvenated and fulfilling year ahead. Embrace
  this opportunity to prioritize your self-care and step into the new year 
 with a renewed sense of vitality and tranquility. Your journey begins now!
 \n\n\n\n\n\n\n\n\n\n\n\n\n\n\n\n\n\n\n\n\n\n\n\n\n\nDate and Time:Saturday
 \, January 20\, 2024 · 6 - 8pm EST\n\n\n\n\n\nAbout this event:\n\n\n\n\n
 \n 	Elevate your self-care game with the Wellness Luxury Launch &amp\; Mas
 sage experience hosted by Wellness Luxury. This event is not just a gather
 ing\; it's a celebration of well-being and a welcoming entry into the year
  2024. Your journey to relaxation and rejuvenation begins here!\n\nTotal D
 uration: 2 hour\n\nTicket Information:\n\n 	Mobile eTicket: [Details about
  electronic ticketing]\n\n\nGET TICKETS\n\n\nWorkout Session Details:\n\n 
 	Indulge in an unforgettable evening of relaxation and self-care.\n 	Exper
 t masseuses will provide blissful complimentary massages to melt away stre
 ss and tension.\n 	The event aims to create an environment for like-minded
  individuals interested in exploring and embracing a wellness journey.\n 	
 Escape the hustle and bustle of everyday life and focus on self-care.\n\nE
 ssentials to Bring:\n\n 	[Include any items or requirements participants s
 hould bring for the event]\n\nParking Options:\n\n 	[Details about parking
  facilities\, availability\, and any associated costs]\n
ATTACH;FMTTYPE=image/jpeg:https://breathemiami.us/wp-content/uploads/2023/
 12/https___cdn.evbuc_.com_images_623923769_1554947025413_1_original.jpg
CATEGORIES:Things To Do,Wellness Events
LOCATION:1880 Dr. Andres Way\, 1880 Dr. Andres Way Delray Beach\, \, Delary
  Beach\, United States\, 33445 \,  FL \, United States
X-APPLE-STRUCTURED-LOCATION;VALUE=URI;X-ADDRESS=1880 Dr. Andres Way Delray 
 Beach\, \, Delary Beach\, United States\, 33445 \,  FL \, United States;X-
 APPLE-RADIUS=100;X-TITLE=1880 Dr. Andres Way:geo:0,0
END:VEVENT
BEGIN:VTIMEZONE
TZID:America/New_York
X-LIC-LOCATION:America/New_York
BEGIN:STANDARD
DTSTART:20231105T010000
TZOFFSETFROM:-0400
TZOFFSETTO:-0500
TZNAME:EST
END:STANDARD
END:VTIMEZONE
END:VCALENDAR