BEGIN:VCALENDAR
VERSION:2.0
PRODID:-//wp-events-plugin.com//7.2.3.1//EN
TZID:America/New_York
X-WR-TIMEZONE:America/New_York
BEGIN:VEVENT
UID:297@breathemiami.us
DTSTART;TZID=America/New_York:20240113T100000
DTEND;TZID=America/New_York:20240113T200000
DTSTAMP:20231227T195816Z
URL:https://breathemiami.us/events/wellness-fest-presented-by-mush-melo/
SUMMARY:Wellness Fest presented by Mush-Melo
DESCRIPTION:Event Information:\n\n\n\n\n\n\n\n\n\n\n\n\n\nPrepare to immers
 e yourself in a day of unparalleled self-care\, relaxation\, and rejuvenat
 ion at Wellness Fest—a magical experience thoughtfully curated by Mush-M
 elo! Get ready to embark on a journey that transcends the ordinary\, where
  every moment is designed to bring you into a state of well-being and ench
 antment. It's not just an event\; it's a celebration of your holistic heal
 th\, and Mush-Melo is your guide to a day filled with transformative exper
 iences.\n\n\n\n\n\n\n\n\n\n\n\n\n\nDate and Time:Saturday\, January 13\, 2
 024 · 10am - 8pm PST\n\n\n\n\n\nAbout this event:\n\n\n\n\n\n 	Get ready 
 to immerse yourself in a day of self-care\, relaxation\, and rejuvenation 
 at Wellness Fest—an enchanting experience presented by Mush-Melo. Hosted
  by The Malibu Retreat\, this in-person event is dedicated to embracing a 
 healthy lifestyle and finding your balance.\n\nTotal Duration: 10 hour\n\n
 Ticket Information:\n\n 	Secure your spot for this transformative experien
 ce. Contact the organizer for refund requests\, keeping in mind that Event
 brite's fee is nonrefundable.\n 	Access your ticket conveniently through a
  Mobile eTicket.\n\n\nGET TICKETS\n\n\nWorkout Session Details:\n\n 	Indul
 ge in a variety of wellness activities\, including invigorating yoga sessi
 ons and refreshing meditation workshops. Our brand activations will provid
 e valuable insights on nutrition\, self-care\, and mindfulness. Immerse yo
 urself in a vibrant community of like-minded individuals passionate about 
 wellness.\n\nEssentials to Bring:\n\n 	Comfortable attire suitable for wel
 lness activities\n 	Yoga mat\n 	Water bottle\n 	Open mind for exploration 
 and learning\n\nParking Options:\n\n 	Venue Address: 25832 Piuma Road\, Ca
 labasas\, CA 91302.\n 	Plan your transportation and parking arrangements f
 or a smooth arrival.\n
ATTACH;FMTTYPE=image/jpeg:https://breathemiami.us/wp-content/uploads/2023/
 12/https___cdn.evbuc_.com_images_662131789_547005840919_1_original.jpg
CATEGORIES:Wellness Events
END:VEVENT
BEGIN:VTIMEZONE
TZID:America/New_York
X-LIC-LOCATION:America/New_York
BEGIN:STANDARD
DTSTART:20231105T010000
TZOFFSETFROM:-0400
TZOFFSETTO:-0500
TZNAME:EST
END:STANDARD
END:VTIMEZONE
END:VCALENDAR