BEGIN:VCALENDAR
VERSION:2.0
PRODID:-//wp-events-plugin.com//7.2.3.1//EN
TZID:America/New_York
X-WR-TIMEZONE:America/New_York
BEGIN:VEVENT
UID:393@breathemiami.us
DTSTART;TZID=America/New_York:20240427T123000
DTEND;TZID=America/New_York:20240427T210000
DTSTAMP:20240317T194734Z
URL:https://breathemiami.us/events/wellness-day-party-the-experience/
SUMMARY:Wellness Day Party - The Experience
DESCRIPTION:\nRejuvenate\, Connect\, and Expand: A Transformative Wellness 
 Day Party in Fort Lauderdale\nCalling all wellness seekers! Are you ready 
 for a transformative experience that nourishes your mind\, body\, and spir
 it? Join us for the Wellness Day Party in Fort Lauderdale\, an event desig
 ned to elevate your well-being\, foster meaningful connections\, and spark
  personal growth.\nImmerse Yourself in a Day of Self-Care:\n\n\n 	Holistic
  Activities: Indulge in a diverse menu of self-care practices\, including 
 invigorating Pilates sessions\, gentle stretching\, and mindful breathwork
  exercises.\n 	Sound &amp\; Movement: Experience the vibrancy of a captiva
 ting drum circle and the deeply restorative power of a sound bath.\n 	Medi
 tation &amp\; Inspiration: Find inner peace and gain valuable insights thr
 ough guided meditation sessions and empowering keynote speeches.\n\nParty 
 with a Purpose:\nThis is more than just an event\; it's a chance to priori
 tize your well-being with a purpose. Recharge your energy while forging co
 nnections with like-minded individuals in a safe\, uplifting environment s
 urrounded by nature.\nUnleash Your Potential and Embrace Joy:\n\n\n 	Inves
 t in Yourself: Unlock a treasure trove of self-discovery. This event offer
 s a taste of practices like Pilates\, breathwork\, and sound therapy at a 
 fraction of the cost of individual sessions. The early bird ticket price o
 f $167 provides incredible value!\n 	Conscious Connections: Network with a
  supportive community of people passionate about personal growth. You'll l
 eave feeling motivated and inspired.\n\nThe "Mmmmm" of Well-Being:\nThis m
 onth's theme\, "Mmmmm\," reflects the holistic approach:\n\n\n 	Mindful Me
 als: Fuel your body with vibrant energy through a focus on mindful eating.
 \n 	Movement &amp\; Music: Express yourself and find joy through invigorat
 ing movement and uplifting music.\n 	Motivation &amp\; Mastery: Gain valua
 ble tools and techniques to master your mindset and cultivate lasting pers
 onal expansion.\n\nBe Part of the Movement:\nOur mission is to make "consc
 ious partying" a mainstream concept\, seamlessly integrating wellness and 
 personal development into everyday life. Join us in raising the collective
  consciousness of Fort Lauderdale\, one person at a time!\nReady to Reconn
 ect with Yourself?\nEmbrace a transformative experience. Buy your ticket t
 oday and step into a world of flow\, rejuvenation\, and connection. Be par
 t of a community dedicated to supporting your well-being journey!\nP.S. Fo
 llow our page to stay updated on future wellness events and join the Consc
 ious Fort Lauderdale Initiative! Let's celebrate conscious living together
 .\n\n\n\n\nGET TICKETS\n
ATTACH;FMTTYPE=image/jpeg:https://breathemiami.us/wp-content/uploads/2024/
 03/https___cdn.evbuc_.com_images_715888059_1365514273833_1_original.jpeg
CATEGORIES:Wellness Events
LOCATION:Fort Lauderdale Marriott North\, 6650 North Andrews Avenue \, Fort
  Lauderdale\, Florida\, 33309 \, United States
X-APPLE-STRUCTURED-LOCATION;VALUE=URI;X-ADDRESS=6650 North Andrews Avenue \
 , Fort Lauderdale\, Florida\, 33309 \, United States;X-APPLE-RADIUS=100;X-
 TITLE=Fort Lauderdale Marriott North:geo:0,0
END:VEVENT
BEGIN:VTIMEZONE
TZID:America/New_York
X-LIC-LOCATION:America/New_York
BEGIN:DAYLIGHT
DTSTART:20240310T030000
TZOFFSETFROM:-0500
TZOFFSETTO:-0400
TZNAME:EDT
END:DAYLIGHT
END:VTIMEZONE
END:VCALENDAR