BEGIN:VCALENDAR
VERSION:2.0
PRODID:-//wp-events-plugin.com//7.2.3.1//EN
TZID:America/New_York
X-WR-TIMEZONE:America/New_York
BEGIN:VEVENT
UID:392@breathemiami.us
DTSTART;TZID=America/New_York:20240901T100000
DTEND;TZID=America/New_York:20240908T120000
DTSTAMP:20240518T020221Z
URL:https://breathemiami.us/events/wellness-cruise-information/
SUMMARY:Wellness Cruise Information
DESCRIPTION:\nSet Sail for Serenity: A Wellness Retreat Aboard the Royal Ca
 ribbean Freedom of the Seas\nCalling all wellness seekers! Are you ready t
 o trade your daily grind for a rejuvenating voyage of self-discovery? Esca
 pe the ordinary and embark on a transformative journey aboard the magnific
 ent Royal Caribbean Freedom of the Seas. This exclusive wellness cruise\, 
 setting sail from Port Everglades\, Ft. Lauderdale\, FL\, USA\, promises t
 o be an oasis of relaxation and revitalization.\nDisconnect to Reconnect:\
 n\n\n 	Unwind and Recharge: Leave your stress on land! This in-person even
 t is designed to help you prioritize your well-being. Breathe in the fresh
  ocean air\, soak up the sun\, and let go of daily pressures.\n\nA Symphon
 y of Wellness Activities:\n\n\n 	Find Your Flow: Start your day with invig
 orating yoga sessions on the expansive deck\, feeling the gentle sea breez
 e as you move your body and connect with your breath.\n 	Unwind Your Mind:
  Melt away tension and cultivate inner peace with guided meditation sessio
 ns led by experienced practitioners. Learn techniques to manage stress and
  cultivate a sense of calm.\n 	Nourish Your Body: Savor delicious and heal
 thy cuisine prepared by onboard chefs who prioritize fresh\, wholesome ing
 redients. Learn about healthy eating habits and dietary practices through 
 informative workshops.\n\nA Community of Wellness Enthusiasts:\n\n\n 	Conn
 ect with Like-Minded Souls: This cruise brings together a vibrant communit
 y of individuals passionate about well-being. Share experiences\, particip
 ate in group activities\, and forge lasting connections with fellow wellne
 ss seekers.\n\nBeyond the Activities:\n\n\n 	Indulge in Luxurious Relaxati
 on: The Royal Caribbean Freedom of the Seas offers a world of amenities at
  your fingertips. Unwind by the pool\, pamper yourself at the spa\, or exp
 lore the vast array of onboard entertainment options.\n 	Explore New Horiz
 ons: Depending on your itinerary\, your cruise might offer breathtaking po
 rt excursions\, allowing you to discover new destinations while maintainin
 g your wellness focus.\n\nThis is your chance to:\n\n\n 	Prioritize Self-C
 are: Escape the everyday hustle and bustle and dedicate time to your physi
 cal and mental well-being.\n 	Invest in Yourself: Learn valuable tools and
  techniques to cultivate lasting well-being habits that you can carry with
  you even after the cruise ends.\n 	Create Lasting Memories: This unique e
 xperience offers the perfect blend of relaxation\, learning\, and connecti
 on\, forming memories that will last a lifetime.\n\nDon't miss out on this
  transformative opportunity! Secure your spot on this exclusive wellness c
 ruise today and embark on a voyage towards a healthier\, happier you!\n\n\
 n\n\n\nBook Spots\n\n
ATTACH;FMTTYPE=image/jpeg:https://breathemiami.us/wp-content/uploads/2024/
 03/https___cdn.evbuc_.com_images_684554159_3274831469_1_original.jpeg
CATEGORIES:Wellness Events,Yoga Events
LOCATION:Royal Carribbean\, Royal Carribbean Freedom of the Seas \, Miami\,
  Florida\, 33132\, United States
X-APPLE-STRUCTURED-LOCATION;VALUE=URI;X-ADDRESS=Royal Carribbean Freedom of
  the Seas \, Miami\, Florida\, 33132\, United States;X-APPLE-RADIUS=100;X-
 TITLE=Royal Carribbean:geo:0,0
END:VEVENT
BEGIN:VTIMEZONE
TZID:America/New_York
X-LIC-LOCATION:America/New_York
BEGIN:DAYLIGHT
DTSTART:20240310T030000
TZOFFSETFROM:-0500
TZOFFSETTO:-0400
TZNAME:EDT
END:DAYLIGHT
END:VTIMEZONE
END:VCALENDAR