BEGIN:VCALENDAR
VERSION:2.0
PRODID:-//wp-events-plugin.com//7.2.3.1//EN
TZID:America/New_York
X-WR-TIMEZONE:America/New_York
BEGIN:VEVENT
UID:290@breathemiami.us
DTSTART;TZID=America/New_York:20240114T080000
DTEND;TZID=America/New_York:20240114T140000
DTSTAMP:20240313T002032Z
URL:https://breathemiami.us/events/wellness-brunch/
SUMMARY:Wellness Brunch
DESCRIPTION:Event Information:\n\n\n\n\n\n\n\n\n\n\n\n\n\n\n\n\n\n\n\n\n\n\
 n\n\n\nEmbark on a delightful journey of well-being with us at Homa for a 
 Wellness Brunch—a unique experience crafted for those seeking to refuel 
 their bodies with delectable food and recharge their spirits at a Kinship 
 wellness event. Join a community of wellness enthusiasts in a space design
 ed to indulge your senses and revitalize your mind\, body\, and soul.\n\nI
 mmerse yourself in the inviting ambiance of Homa\, where culinary delights
  await to satisfy your taste buds. This event goes beyond the ordinary bru
 nch\; it's a fusion of deliciousness and rejuvenation\, offering a holisti
 c approach to self-care. Connect with like-minded individuals\, share in t
 he joy of nutritious and flavorful dishes\, and be a part of a wellness ev
 ent that promises both relaxation and inspiration\n\nWhether you're a seas
 oned wellness enthusiast or just beginning your journey\, this is the perf
 ect opportunity to embrace a guilt-free brunch experience. Reserve your sp
 ot now and join us at Homa for a Wellness Brunch—where nourishment meets
  revitalization\, and every bite is a step towards a healthier\, more insp
 ired you.\n\n\n\n\n\n\n\n\n\n\n\n\n\n\n\n\n\n\n\n\n\n\n\n\n\nDate and Time
 :Sunday\, January 14\, 2024 · 8am - 2pm MST\n\n\n\n\n\nAbout this event:\
 n\n\n\n\n\n 	Indulge in a transformative Wellness Brunch at Homa\, where c
 ulinary delights meet the rejuvenating vibes of a Kinship wellness event. 
 Join us for a day of nourishment\, connection\, and inspiration as we cura
 te an experience to revitalize your mind\, body\, and soul. Immerse yourse
 lf in a relaxing atmosphere\, savoring a spread of healthy and delicious b
 runch options presented by Homa Café + Bar. The event features a yoga cla
 ss in the Greenhaus\, creating a holistic experience that transcends the o
 rdinary brunch affair. Connect with like-minded individuals\, engage in me
 aningful conversations\, and explore new ways to care for yourself. Whethe
 r you're a wellness enthusiast or just starting your journey\, this event 
 is tailor-made for you. Reserve your spot now and seize the opportunity to
  partake in a guilt-free brunch experience that promises rejuvenation and 
 inspiration.\n\nTotal Duration: 6 hour\n\nTicket Information:\n\n 	Brunch 
 Entry: Free (Brunch items served a la carte)\n 	Yoga Class Entry: $15 per 
 person\n 	Ticket Type: Mobile eTicket\n\n\nGET TICKETS\n\n\nWorkout Sessio
 n Details:\n\n 	Experience a yoga class presented by Ananda Yoga at 9:00 a
 m in the Greenhaus. This class offers an opportunity to harmonize your bod
 y and mind\, creating a holistic wellness experience.\n\nEssentials to Bri
 ng:\n\n 	For the yoga class\, participants are encouraged to bring a yoga 
 mat\, comfortable attire\, and an open heart for the practice. Additionall
 y\, attendees may want to bring any personal items for their comfort durin
 g the brunch.\n\nParking Options:\n\n 	Ample parking is available at Homa 
 at Kinship Landing\, located at 415 South Nevada Avenue\, Colorado Springs
 \, CO. Attendees are advised to check for any specific parking instruction
 s or guidelines provided by the venue.\n
ATTACH;FMTTYPE=image/jpeg:https://breathemiami.us/wp-content/uploads/2023/
 12/https___cdn.evbuc_.com_images_659349669_1755946873823_1_original.jpg
CATEGORIES:Wellness Events,Yoga Events
LOCATION:USA\, 415 South Nevada Avenue Colorado Springs\, \, zzz\,  United 
 States\,  80903\, CO\, United States
X-APPLE-STRUCTURED-LOCATION;VALUE=URI;X-ADDRESS=415 South Nevada Avenue Col
 orado Springs\, \, zzz\,  United States\,  80903\, CO\, United States;X-AP
 PLE-RADIUS=100;X-TITLE=USA:geo:0,0
END:VEVENT
BEGIN:VTIMEZONE
TZID:America/New_York
X-LIC-LOCATION:America/New_York
BEGIN:STANDARD
DTSTART:20231105T010000
TZOFFSETFROM:-0400
TZOFFSETTO:-0500
TZNAME:EST
END:STANDARD
END:VTIMEZONE
END:VCALENDAR