BEGIN:VCALENDAR
VERSION:2.0
PRODID:-//wp-events-plugin.com//7.2.3.1//EN
TZID:America/New_York
X-WR-TIMEZONE:America/New_York
BEGIN:VEVENT
UID:351@breathemiami.us
DTSTART;TZID=America/New_York:20240330T110000
DTEND;TZID=America/New_York:20240330T150000
DTSTAMP:20240303T141723Z
URL:https://breathemiami.us/events/wellness-brunch-2/
SUMMARY:Impact and Wellness Brunch
DESCRIPTION:Immerse yourself in a Kentucky Derby-themed extravaganza brim
 ming with entertainment\, delectable cuisine\, and inspiring talks! This
  impactful event promises a fun-filled day while celebrating female emp
 owerment.\nDon your finest fascinators and hats and join us for an unforge
 ttable experience.\nCalling all vendors! Showcase your business to our vib
 rant community.\nReserve your spot today! Visit www.lavie-music.com for de
 tails.\n#EmergeWoman #WellnessBrunch #KentuckyDerbyTheme\n\n\nBOOK TICKETS
 \n\n
ATTACH;FMTTYPE=image/jpeg:https://breathemiami.us/wp-content/uploads/2024/
 03/https___cdn.evbuc_.com_images_703923229_16938210269_1_original.jpg
CATEGORIES:Wellness Events
LOCATION:Ilene Lieberman Botanical Gardens\, 3801 Inverrary Boulevard Laude
 rhill\, Miami\, Florida\, 33319\, United States
X-APPLE-STRUCTURED-LOCATION;VALUE=URI;X-ADDRESS=3801 Inverrary Boulevard La
 uderhill\, Miami\, Florida\, 33319\, United States;X-APPLE-RADIUS=100;X-TI
 TLE=Ilene Lieberman Botanical Gardens:geo:0,0
END:VEVENT
BEGIN:VTIMEZONE
TZID:America/New_York
X-LIC-LOCATION:America/New_York
BEGIN:DAYLIGHT
DTSTART:20240310T030000
TZOFFSETFROM:-0500
TZOFFSETTO:-0400
TZNAME:EDT
END:DAYLIGHT
END:VTIMEZONE
END:VCALENDAR