BEGIN:VCALENDAR
VERSION:2.0
PRODID:-//wp-events-plugin.com//7.2.3.1//EN
TZID:America/New_York
X-WR-TIMEZONE:America/New_York
BEGIN:VEVENT
UID:1222@breathemiami.us
DTSTART;TZID=America/New_York:20250313T090000
DTEND;TZID=America/New_York:20250313T170000
DTSTAMP:20250206T022606Z
URL:https://breathemiami.us/events/wellness-a-comprehensive-guide-1-day-wo
 rkshop-in-hialeah-fl/
SUMMARY:Wellness: A Comprehensive Guide 1 Day Workshop in Hialeah\, FL
DESCRIPTION:\n\n\n\n\n\n\n\n\n\n\n\n\n\nWellness: A Comprehensive Guide –
  1-Day Workshop in Hialeah\, FL\n\nThe Wellness: A Comprehensive Guide 1-d
 ay workshop is an immersive\, in-person event designed to foster growth an
 d learning. Held in Hialeah\, FL\, this workshop explores a broad spectrum
  of wellness topics\, focusing on nutrition\, mindfulness\, and the promot
 ion of overall well-being\, making it a valuable experience for anyone loo
 king to improve their holistic health. Participants will leave equipped wi
 th the knowledge and skills to integrate wellness into their daily lives a
 nd work environments.\nCourse Overview:\n\n 	Certificate: Course Completio
 n Certificate\n 	Language: English\n 	Duration: 1 Day\n 	Credits: 8 PDUs\n
  	Course Delivery Format: In-Person Classroom (with food and beverages pro
 vided)\n\nCourse Description:\nIn today’s fast-paced world\, prioritizin
 g wellness at the workplace is crucial for both individuals and organizati
 ons. This workshop offers a proactive approach to enhancing employee well-
 being by addressing both mental and physical health\, reducing stress\, an
 d decreasing absenteeism. The course is designed to give participants the 
 tools and knowledge to create a culture of wellness within their organizat
 ions\, ultimately leading to improved performance and a positive work envi
 ronment. Through practical strategies and insights\, attendees will learn 
 how to create a healthy workplace that nurtures productivity and employee 
 engagement.\nKey Benefits:\n\n 	Enhanced Productivity: Healthier employees
  are more engaged\, leading to greater productivity.\n 	Reduced Absenteeis
 m: Improved wellness results in fewer sick days and a healthier workforce.
 \n 	Positive Work Environment: A focus on wellness creates a supportive\, 
 positive workplace culture.\n 	Personal Empowerment: Employees will gain t
 he tools to take charge of their health and well-being.\n\nCourse Contents
 :\n\n 	Introduction and Objectives\n 	The History of Wellness\n 	The Impor
 tance of Corporate Wellness Today\n 	Thought Awareness\n 	Rational and Pos
 itive Thinking\n 	The Six Dimensions of Wellness\n 	Setting Personal Goals
  and Objectives\n 	Wellness Starts at Work\n 	Creating Work-Life Balance\n
  	Developing Wellness Action Plans\n 	Case Studies\n 	Management Support f
 or Wellness\n\nWhy Enroll in This Course?\n\n 	Comprehensive Learning: Gai
 n an in-depth understanding of wellness and its far-reaching impact.\n 	Pr
 actical Techniques: Learn actionable strategies to improve mental and phys
 ical health.\n 	Personal and Organizational Growth: Improve your personal 
 well-being while contributing to a healthier workplace.\n 	Expert Guidance
 : Learn from experts who offer practical insights and real-life examples.\
 n\nCourse Features:\nUpon completion of this Wellness training\, participa
 nts will be able to:\n\n 	Define wellness and understand its critical role
  in the workplace.\n 	Practice techniques for rational and positive thinki
 ng.\n 	Apply the six dimensions of wellness in daily life.\n 	Recognize th
 e importance of work-life balance.\n 	Articulate the business case for imp
 lementing wellness programs in the workplace.\n\nCertification:\nUpon comp
 leting the training\, participants will receive a Course Completion Certif
 icate from Mangates\, validating their commitment to promoting workplace w
 ellness.\nWho Should Attend?\nThis workshop is ideal for:\n\n 	HR professi
 onals and managers looking to implement wellness programs in their organiz
 ations.\n 	Employees who want to improve their health and well-being.\n 	I
 ndividuals seeking to understand wellness principles and apply them effect
 ively in the workplace.\n\nThe Benefits of the Wellness Course for Teams:\
 n\n 	Enhanced Well-Being: Employees will acquire practical strategies to e
 nhance their mental and physical health\, leading to reduced stress\, incr
 eased resilience\, and improved overall well-being.\n 	Improved Productivi
 ty: Fostering a healthier work environment helps teams stay focused and ma
 nage their energy more effectively\, boosting productivity.\n 	Positive Wo
 rk Culture: Implementing wellness initiatives creates a supportive atmosph
 ere\, increasing morale and team cohesion\, while also reducing turnover.\
 n 	Tailored Wellness Programs: Teams will learn how to design and implemen
 t wellness programs that meet specific organizational needs and challenges
 .\n 	Strategic Alignment: Wellness initiatives aligned with organizational
  goals can enhance employee engagement\, satisfaction\, and performance\, 
 which directly impacts business outcomes.\n 	Measurable Impact: Teams will
  be able to measure the success of wellness initiatives using metrics and 
 feedback\, ensuring their effectiveness in improving employee satisfaction
  and productivity.\n 	Adapting to Changing Environments: Equipped with ada
 ptable wellness strategies\, teams can navigate changes in work environmen
 ts\, such as transitions to remote work or shifts in company culture.\n 	P
 roactive Wellness: Encouraging employees to take a proactive approach to w
 ellness benefits both individuals and organizations\, strengthening the co
 mpany’s reputation as an employer of choice committed to well-being.\n\n
 To Host the Session for Your Group:\nFor organizations interested in bring
 ing this Wellness Workshop in-house\, inquiries can be directed to corpora
 te@mangates.com.\n\n\n\n\n\n\n\n\n\n\n\n\n\n\n\n\n\n\n\n\n\n\n\n\n\n\n\n\n
 GET TICKETS\n
ATTACH;FMTTYPE=image/jpeg:https://breathemiami.us/wp-content/uploads/2025/
 02/Wellness-A-Comprehensive-Guide-1-Day-Workshop-in-Hialeah-FL.jpg
CATEGORIES:Wellness Events
LOCATION:reach us at info@mangates.com or call us at +1 469 666 9332\, Hial
 eah Hialeah\, Hialeah Hialeah\, United States
X-APPLE-STRUCTURED-LOCATION;VALUE=URI;X-ADDRESS=Hialeah Hialeah\, Hialeah H
 ialeah\, United States;X-APPLE-RADIUS=100;X-TITLE=reach us at info@mangate
 s.com or call us at +1 469 666 9332:geo:0,0
END:VEVENT
BEGIN:VTIMEZONE
TZID:America/New_York
X-LIC-LOCATION:America/New_York
BEGIN:DAYLIGHT
DTSTART:20250309T030000
TZOFFSETFROM:-0500
TZOFFSETTO:-0400
TZNAME:EDT
END:DAYLIGHT
END:VTIMEZONE
END:VCALENDAR