BEGIN:VCALENDAR
VERSION:2.0
PRODID:-//wp-events-plugin.com//7.2.3.1//EN
TZID:America/New_York
X-WR-TIMEZONE:America/New_York
BEGIN:VEVENT
UID:301@breathemiami.us
DTSTART;TZID=America/New_York:20240110T090000
DTEND;TZID=America/New_York:20240110T170000
DTSTAMP:20231227T201317Z
URL:https://breathemiami.us/events/wellness-1-day-training-in-phoenix-az/
SUMMARY:Wellness 1 Day Training in Phoenix\, AZ
DESCRIPTION:Event Information:\n\n\n\n\n\n\n\n\n\n\n\n\n\n\n\n\n\n\n\n\n\n\
 n\n\n\nEngage in a transformative learning experience with our classroom t
 raining\, where the power of face-to-face instruction merges seamlessly wi
 th the opportunity to interact directly with our knowledgeable instructors
 . This dynamic setting is designed to optimize your understanding\, foster
  meaningful interactions\, and enhance your overall learning journey throu
 gh the nuances of real-time\, in-person engagement. Join us in the classro
 om and unlock the full potential of interactive and personalized instructi
 on.\n\n\n\n\n\n\n\n\n\n\n\n\n\n\n\n\n\n\n\n\n\n\n\n\n\nDate and Time:Wedne
 sday\, January 10\, 2024 · 9am - 5pm MST\n\nAbout this event:\n\n 	Our cl
 assroom training offers a unique opportunity to engage with experienced in
 structors and receive valuable face-to-face instruction. Join us for a day
  of wellness training in Phoenix\, AZ\, where you can enhance your knowled
 ge and skills in a supportive environment.\n\nTotal Duration: 8 hour\n\nTi
 cket Information:\n\n 	Ticket Price: [Specify Ticket Price]\n 	Ticket Avai
 lability: [Specify Ticket Availability]\n\n\nGET TICKETS\n\n\nWorkout Sess
 ion Details:\n\n 	[Provide information about the workout sessions planned 
 for the event. Include details such as the types of exercises\, duration\,
  and any special instructors or techniques.]\n\nEssentials to Bring:\n\n 	
 Make the most of your training day by bringing the following essentials:\n
 \nParking Options:\n\n 	Parking is available at the venue. Please check wi
 th the venue or visit our website for detailed parking instructions to ens
 ure a smooth arrival.\n
ATTACH;FMTTYPE=image/jpeg:https://breathemiami.us/wp-content/uploads/2023/
 12/https___cdn.evbuc_.com_images_600316759_435433218618_1_original-1.jpg
CATEGORIES:Wellness Events
END:VEVENT
BEGIN:VTIMEZONE
TZID:America/New_York
X-LIC-LOCATION:America/New_York
BEGIN:STANDARD
DTSTART:20231105T010000
TZOFFSETFROM:-0400
TZOFFSETTO:-0500
TZNAME:EST
END:STANDARD
END:VTIMEZONE
END:VCALENDAR