BEGIN:VCALENDAR
VERSION:2.0
PRODID:-//wp-events-plugin.com//7.2.3.1//EN
TZID:America/New_York
X-WR-TIMEZONE:America/New_York
BEGIN:VEVENT
UID:259@breathemiami.us
DTSTART;TZID=America/New_York:20240124T090000
DTEND;TZID=America/New_York:20240124T170000
DTSTAMP:20231227T145413Z
URL:https://breathemiami.us/events/wellness-1-day-training-in-miami/
SUMMARY:Wellness 1 Day Training in Miami\, FL
DESCRIPTION:Event Information:\n\n\n\n\n\n\n\n\n\n\n\n\n\nExperience the po
 wer of learning through direct engagement with our classroom training. Thi
 s unique opportunity opens the door for you to interact seamlessly with ou
 r experienced instructors\, allowing you to benefit from personalized\, fa
 ce-to-face instruction. Our commitment is to create an environment where y
 our questions are heard\, your challenges are addressed\, and your learnin
 g experience is enriched through dynamic\, real-time interactions. Join us
  in the classroom\, where education goes beyond the ordinary\, and the exc
 hange of knowledge becomes a collaborative journey tailored to your needs.
 \n\n\n\n\n\n\n\n\n\n\n\n\n\nDate and Time:Wednesday\, January 24\, 2024 ·
  9am - 5pm EST\n\nAbout this event:\n\n 	Enhance your workplace wellness k
 nowledge with this comprehensive 1-day training program in Miami\, FL. The
  course\, available in classroom\, virtual\, and on-site formats\, provide
 s a unique opportunity for interactive learning and face-to-face instructi
 on.\n\nTotal Duration: 8 hour\n\nTicket Information:\n\n 	Unlock the gatew
 ay to knowledge and well-being by securing your ticket to the Wellness 1 D
 ay Training in Miami\, FL. Choose the option that best aligns with your pr
 eferences and training needs:\n\n 	Standard Ticket:\n\n 	Gain access to th
 e full-day training session.\n 	Interact with instructors in a classroom s
 etting or virtually.\n 	Receive a Course Completion Certificate upon finis
 hing the program.\n\n\n 	Early Bird Ticket (Limited Availability):\n\n 	En
 joy all the benefits of the Standard Ticket at a discounted rate.\n 	Limit
 ed availability\, so secure your spot early for extra savings.\n\n\n 	VIP 
 Ticket:\n\n 	Elevate your training experience with VIP perks.\n 	Priority 
 seating\, exclusive materials\, and additional post-training resources.\n 
 	Access to a post-training Q&amp\;A session with instructors.\n\n\n\nHow t
 o Purchase:\n\n 	Navigate to the "Events" or "Training" section.\n 	Select
  the desired Wellness 1 Day Training event.\n 	Choose your preferred ticke
 t type.\n 	Follow the prompts to complete your registration.\n\n\n\n\nGET 
 TICKETS\n\n\nWorkout Session Details:\n\n 	Elevate your well-being with ou
 r immersive workout sessions designed to invigorate both body and mind dur
 ing the Wellness 1 Day Training in Miami\, FL. Our holistic approach integ
 rates physical activity into the learning experience\, ensuring a comprehe
 nsive understanding of workplace wellness. Here's what to expect:\n\n 	Ses
 sion Duration:\n\n 	Engage in invigorating workout sessions scheduled stra
 tegically throughout the day.\n 	Duration may vary\, offering flexibility 
 to accommodate various fitness levels.\n\n\n 	Fitness Variety:\n\n 	Experi
 ence a diverse range of workouts tailored to suit different preferences an
 d abilities.\n 	Options may include cardio\, stretching\, mindfulness exer
 cises\, and team-based activities.\n\n\n 	Expert Guidance:\n\n 	Certified 
 fitness instructors will lead each session\, combining expertise with moti
 vational support.\n 	Learn proper techniques\, form\, and the importance o
 f incorporating physical activity into daily routines.\n\n\n 	Interactive 
 Learning:\n\n 	Understand the correlation between physical health and over
 all wellness.\n 	Discuss the impact of exercise on stress reduction\, ment
 al clarity\, and workplace productivity.\n\n\n 	Team Building:\n\n 	Partic
 ipate in group exercises fostering a sense of camaraderie among attendees.
 \n 	Team-building activities promote collaboration and create a positive\,
  energized atmosphere.\n\n\n 	Wellness Toolkit:\n\n 	Receive practical tak
 eaways to integrate fitness into your daily routine.\n 	Learn how regular 
 movement contributes to a healthier work-life balance.\n\n\n 	Comfortable 
 Attire:\n\n 	Wear comfortable clothing suitable for moderate physical acti
 vity.\n 	Athletic shoes are recommended to ensure a comfortable and safe e
 xperience.\n\n\n\n\n\nEssentials to Bring:\n\n 	Participants are encourage
 d to bring an open mind\, a readiness to engage in discussions\, and a wil
 lingness to actively participate in activities and exercises throughout th
 e training.\n\nParking Options:\n\n 	For information on parking options\, 
 please contact the organizers at\n
ATTACH;FMTTYPE=image/jpeg:https://breathemiami.us/wp-content/uploads/2023/
 12/https___cdn.evbuc_.com_images_600316759_435433218618_1_original.jpg
CATEGORIES:Wellness Events
LOCATION:For venue details reach us at: info@academyforpros.com\, PH: +1 46
 9 666 9332 Miami\, \, Miami Beach\,\,  United States\,  33016\,  FL \, Uni
 ted States
X-APPLE-STRUCTURED-LOCATION;VALUE=URI;X-ADDRESS=PH: +1 469 666 9332 Miami\,
  \, Miami Beach\,\,  United States\,  33016\,  FL \, United States;X-APPLE
 -RADIUS=100;X-TITLE=For venue details reach us at: info@academyforpros.com
 :geo:0,0
END:VEVENT
BEGIN:VTIMEZONE
TZID:America/New_York
X-LIC-LOCATION:America/New_York
BEGIN:STANDARD
DTSTART:20231105T010000
TZOFFSETFROM:-0400
TZOFFSETTO:-0500
TZNAME:EST
END:STANDARD
END:VTIMEZONE
END:VCALENDAR