BEGIN:VCALENDAR
VERSION:2.0
PRODID:-//wp-events-plugin.com//7.2.3.1//EN
TZID:America/New_York
X-WR-TIMEZONE:America/New_York
BEGIN:VEVENT
UID:1010@breathemiami.us
DTSTART;TZID=America/New_York:20241003T210000
DTEND;TZID=America/New_York:20241003T220000
DTSTAMP:20241006T152556Z
URL:https://breathemiami.us/events/weekend-seven-chakra-healing-sound-bath
 -journey-virtual-coral-gables-fl/
SUMMARY:Weekend Seven Chakra Healing Sound Bath Journey | Virtual |Coral Ga
 bles\, FL
DESCRIPTION:Step into a transformative healing experience with the ancient 
 practice of Tibetan singing bowls\, all from the comfort and safety of you
 r own sacred space. This virtual journey is designed to harmonize your ene
 rgy\, guiding you through the seven chakras while the powerful vibrations 
 of the bowls work to restore balance\, peace\, and well-being.\n\nUnder th
 e guidance of certified practitioners\, trained in Nepal—the birthplace 
 of Tibetan singing bowl therapy—this sound bath is accessible to everyon
 e\, regardless of experience. Whether you're new to sound healing or an ex
 perienced practitioner\, the soothing resonance of the bowls will surround
  you\, inviting deep relaxation and personal transformation.\n\nA carefull
 y curated guided meditation will prepare your mind and body\, setting the 
 stage for the healing vibrations to work their magic.\n\nWhat to Do:\n\n 	
 Arrive early: Give yourself a few moments before the session begins to set
 tle in and create a calm\, peaceful environment.\n 	Wear comfortable cloth
 ing: Loose\, comfortable attire allows for ease of movement and relaxation
 . Feel free to bring blankets\, cushions\, or any props that make you feel
  more at ease.\n 	Be present: Let go of distractions and immerse yourself 
 fully in the sound healing experience.\n\nWhat Not to Do:\n\n 	Avoid distr
 actions: Refrain from using electronic devices or engaging in unrelated ac
 tivities during the session.\n 	Don’t force or strain your body: The exp
 erience is meant to be gentle. Simply rest in a comfortable position.\n 	D
 on’t judge or overthink your experience: Allow the sound vibrations to f
 low over you naturally\, trusting the process without analyzing it.\n\nHea
 ling Benefits:\n\n 	Promotes deep relaxation and stress relief: The soothi
 ng sound waves help calm the nervous system\, fostering a profound sense o
 f relaxation.\n 	Balances and aligns the seven chakras: Each chakra corres
 ponds to different areas of the body\, and the vibrations work to realign 
 and energize these centers.\n 	Encourages emotional release and energy hea
 ling: This practice facilitates the release of stored emotional tension\, 
 offering an opportunity for healing on an energetic level.\n 	Improves sle
 ep quality and mood: Regular participation can help improve overall sleep 
 patterns and mood by reducing stress and anxiety.\n 	Cultivates inner peac
 e and clarity: The meditative nature of the session helps you connect to a
  deeper sense of self\, bringing a feeling of clarity and peace.\n\nWhat O
 thers Are Saying:\n\n 	"The Seven Chakra Sound Healing Session was a truly
  unforgettable experience. The Tibetan singing bowls’ vibrations transpo
 rted me into a state of deep relaxation\, where I could feel each chakra b
 eing balanced and renewed. It was an incredibly powerful healing journey."
  – Louis L.\n 	"I was new to sound healing and wasn’t sure what to exp
 ect\, but I was amazed by the profound effect it had on me. The session wa
 s beautifully led\, and I left feeling calmer\, lighter\, and more connect
 ed to my inner self. I’m looking forward to joining another one soon!" 
 – Patrick M.\n 	"This sound healing journey was an absolute delight for 
 my mind\, body\, and soul. The vibrations of the Tibetan bowls created a s
 ymphony of peace\, washing away my stress. I left the session feeling grou
 nded\, centered\, and fully in tune with my inner self. Highly recommended
  for anyone seeking deep relaxation." – Wes D.\n 	"Having attended vario
 us sound healing sessions in the past\, I can say that Coquihalla’s Seve
 n Chakra Healing stands out for its authenticity and transformative power.
  The Tibetan bowls brought me into a space of spiritual connection and ren
 ewal\, leaving me feeling refreshed and uplifted." – Anna A.\n\nFor more
  information about other offerings\, visit www.coquihalla.com.\n\nGET TICK
 ETS\n
ATTACH;FMTTYPE=image/jpeg:https://breathemiami.us/wp-content/uploads/2024/
 10/Weekend-Seven-Chakra-Healing-Sound-Bath-Journey.jpg
CATEGORIES:Wellness Events
LOCATION:Coral Gables Museum\, 285 Aragon Ave\, Coral Gables\, Florida\, 33
 134\, United States
X-APPLE-STRUCTURED-LOCATION;VALUE=URI;X-ADDRESS=285 Aragon Ave\, Coral Gabl
 es\, Florida\, 33134\, United States;X-APPLE-RADIUS=100;X-TITLE=Coral Gabl
 es Museum:geo:0,0
END:VEVENT
BEGIN:VTIMEZONE
TZID:America/New_York
X-LIC-LOCATION:America/New_York
BEGIN:DAYLIGHT
DTSTART:20240310T030000
TZOFFSETFROM:-0500
TZOFFSETTO:-0400
TZNAME:EDT
END:DAYLIGHT
END:VTIMEZONE
END:VCALENDAR