BEGIN:VCALENDAR
VERSION:2.0
PRODID:-//wp-events-plugin.com//7.2.3.1//EN
TZID:America/New_York
X-WR-TIMEZONE:America/New_York
BEGIN:VEVENT
UID:544@breathemiami.us
DTSTART;TZID=America/New_York:20240617T160000
DTEND;TZID=America/New_York:20240617T193000
DTSTAMP:20240609T050145Z
URL:https://breathemiami.us/events/wedding-salon-luxury-bridal-showcase/
SUMMARY:Wedding Salon Luxury Bridal Showcase
DESCRIPTION:Join us for an enchanting day at the Dua Miami Brickell\, An Au
 tograph Collection Hotel\, where the world of bridal elegance comes to lif
 e. The Wedding Salon Luxury Bridal Showcase is your gateway to the latest 
 trends in wedding fashion\, decor\, and more.\nMeet Top Vendors and Expert
 s\nConnect with the industry's leading vendors who will be showcasing thei
 r finest offerings. From breathtaking gowns and stylish tuxedos to exquisi
 te floral arrangements and innovative decor\, you'll find everything you n
 eed to make your dream wedding a reality.\nLive Demonstrations and Inspira
 tion\nExperience live demonstrations that will inspire and excite you for 
 your big day. Whether you're looking for the perfect hairstyle\, makeup lo
 ok\, or table setting\, our experts will provide valuable insights and tip
 s to help you plan every detail.\nA Celebration for Everyone\nWhether you'
 re a bride-to-be\, a groom-to-be\, or simply a wedding enthusiast\, this e
 vent is designed for you. Immerse yourself in the romantic atmosphere\, ga
 ther inspiration\, and enjoy the excitement of wedding planning in a luxur
 ious setting.\nExclusive Experience\nDon't miss out on this exclusive oppo
 rtunity to experience the ultimate bridal showcase in person. The Wedding 
 Salon Luxury Bridal Showcase promises a day filled with beauty\, creativit
 y\, and endless inspiration.\nSee You There!\nMark your calendars and join
  us for a day of luxury and elegance. The Wedding Salon Luxury Bridal Show
 case at the Dua Miami Brickell is the perfect place to bring your wedding 
 visions to life. We can't wait to see you there!\n\nGET TICKETS\n
ATTACH;FMTTYPE=image/jpeg:https://breathemiami.us/wp-content/uploads/2024/
 06/Wedding-Salon-Luxury-Bridal-Showcase.jpg
CATEGORIES:Things To Do
LOCATION:An Autograph Collection Hotel\, 1300 South Miami Avenue Miami\, Mi
 ami\, Florida\, 33130\,  FL \, United States
X-APPLE-STRUCTURED-LOCATION;VALUE=URI;X-ADDRESS=1300 South Miami Avenue Mia
 mi\, Miami\, Florida\, 33130\,  FL \, United States;X-APPLE-RADIUS=100;X-T
 ITLE=An Autograph Collection Hotel:geo:0,0
END:VEVENT
BEGIN:VTIMEZONE
TZID:America/New_York
X-LIC-LOCATION:America/New_York
BEGIN:DAYLIGHT
DTSTART:20240310T030000
TZOFFSETFROM:-0500
TZOFFSETTO:-0400
TZNAME:EDT
END:DAYLIGHT
END:VTIMEZONE
END:VCALENDAR