BEGIN:VCALENDAR
VERSION:2.0
PRODID:-//wp-events-plugin.com//7.2.3.1//EN
TZID:America/New_York
X-WR-TIMEZONE:America/New_York
BEGIN:VEVENT
UID:675@breathemiami.us
DTSTART;TZID=America/New_York:20240824T100000
DTEND;TZID=America/New_York:20240824T173000
DTSTAMP:20240804T142137Z
URL:https://breathemiami.us/events/wealthy-visionaries-abundance-healing-k
 undalini-soul-deep-dive-day/
SUMMARY:WEALTHY VISIONARIES: ABUNDANCE | HEALING | KUNDALINI | SOUL DEEP DI
 VE DAY
DESCRIPTION:Embark on a transformative journey with the Wealthy Visionaries
  Retreat\, a one-day immersive experience designed to unlock your unlimite
 d potential and guide you toward becoming a Wealthy Visionary. This unique
  retreat offers an opportunity to reset your life’s trajectory and embra
 ce a new chapter filled with abundance and purpose.\n\nEvent Highlights:\n
 \nParticipants will delve into a full day of inner exploration\, emotional
  and energy healing\, and manifestation practices aimed at breaking throug
 h limiting beliefs and financial wounds. By leveraging ancient Kundalini Y
 oga and Meditation techniques for prosperity\, along with breath work\, Em
 otion Code\, Body Talk\, and energy clearing sessions\, attendees will exp
 erience profound shifts in their perception of wealth and abundance.\n\nTh
 e retreat will feature:\n\n 	Kundalini Yoga and Meditation: Techniques to 
 enhance prosperity and align with your soul's mission.\n 	Energy Healing M
 odalities: Including Emotion Code and Body Talk to clear old blockages and
  deepen self-awareness.\n 	Manifestation Practices: Group activities\, mas
 termind discussions\, and a manifestation dance experience to amplify your
  vision and dreams.\n 	Ceremonial Cacao: To support heart activation and c
 reate a deeper connection with your intentions.\n\nThe day is crafted to p
 rovide emotional\, spiritual\, and financial healing\, offering a fresh pe
 rspective and tools to manifest an abundant and fulfilling life. Participa
 nts will leave with a clearer understanding of manifestation and the Law o
 f Attraction\, equipped with actionable plans for their future.\n\nWho Sho
 uld Attend:\n\n 	Those on a path of self-discovery\, eager to grow and exp
 lore deeper aspects of themselves.\n 	Individuals seeking a more meaningfu
 l life\, enriched with fulfilling relationships and ideal income.\n 	Anyon
 e who has tried various manifestation techniques but seeks a clearer under
 standing of how the process truly works.\n 	No matter your age\, physical 
 capabilities\, or social status\, if you feel called to elevate your life\
 , this retreat is for you.\n\nWhat to Expect:\n\n 	A supportive and safe e
 nvironment surrounded by like-minded individuals.\n 	Insights into the mec
 hanics of manifestation and practical steps for 2023 and beyond.\n 	Person
 al breakthroughs\, heart activations\, and a day full of inspiration and f
 un.\n\nJoin us for a day of profound transformation and discovery. Embrace
  the call of your soul\, and unlock the path to a life of abundance\, clar
 ity\, and empowerment.\n\nGET TICKETS\n
ATTACH;FMTTYPE=image/jpeg:https://breathemiami.us/wp-content/uploads/2024/
 08/WEALTHY-VISIONARIES-ABUNDANCE-HEALING-KUNDALINI-SOUL-DEEP-DIVE-DAY.jpg
CATEGORIES:Mindfulness Events,Nature Events,Retreats Events,Things To
 Do,Wellness Events,Yoga Events
LOCATION:Bohemian House\, Coral Gables\, Private House Miami\, Miami\, Flor
 ida\, 33134\, United States\, United States
X-APPLE-STRUCTURED-LOCATION;VALUE=URI;X-ADDRESS=Coral Gables\, Private Hous
 e Miami\, Miami\, Florida\, 33134\, United States\, United States;X-APPLE-
 RADIUS=100;X-TITLE=Bohemian House:geo:0,0
END:VEVENT
BEGIN:VTIMEZONE
TZID:America/New_York
X-LIC-LOCATION:America/New_York
BEGIN:DAYLIGHT
DTSTART:20240310T030000
TZOFFSETFROM:-0500
TZOFFSETTO:-0400
TZNAME:EDT
END:DAYLIGHT
END:VTIMEZONE
END:VCALENDAR