BEGIN:VCALENDAR
VERSION:2.0
PRODID:-//wp-events-plugin.com//7.2.3.1//EN
TZID:America/New_York
X-WR-TIMEZONE:America/New_York
BEGIN:VEVENT
UID:589@breathemiami.us
DTSTART;TZID=America/New_York:20240705T183000
DTEND;TZID=America/New_York:20240705T193000
DTSTAMP:20240625T055920Z
URL:https://breathemiami.us/events/warrior-training/
SUMMARY:Warrior Training
DESCRIPTION:Unlock your inner strength and resilience at our Warrior Traini
 ng event at the luxurious Faena Hotel Miami Beach. This immersive\, in-per
 son training session is designed to push your limits and help you discover
  the warrior within.\n\nEvent Highlights:\n\n 	Date: [Specify the Date]\n 
 	Location: Faena Hotel Miami Beach\n 	Intensity: High-energy workouts and 
 skill-building sessions\n\nWhat to Expect:\n\n 	Guided by Experts: Our sea
 soned trainers will lead you through a series of intense\, high-impact wor
 kouts that will challenge your endurance\, strength\, and agility.\n 	Skil
 l Development: Learn valuable techniques and skills to overcome physical a
 nd mental obstacles\, equipping you with the tools to face any challenge.\
 n 	Transformative Experience: This session is not just about physical trai
 ning\; it’s a journey towards becoming the best version of yourself\, fo
 stering a warrior mindset that you can carry into all aspects of life.\n 	
 Community and Support: Connect with like-minded individuals who are on the
  same path of self-improvement and resilience\, creating a supportive and 
 motivating environment.\n\nWhy Attend?\n\n 	Elevate Your Fitness: Whether 
 you're a seasoned athlete or just starting your fitness journey\, this eve
 nt is designed to elevate your fitness game and push you beyond your perce
 ived limits.\n 	Empowerment: Gain the confidence and strength to tackle li
 fe's challenges head-on\, with a newfound sense of empowerment and determi
 nation.\n 	Unique Setting: Experience the invigorating training session in
  the breathtaking and inspiring surroundings of the Faena Hotel Miami Beac
 h\, adding an element of luxury to your warrior journey.\n\nJoin Us:\n\nDo
 n’t miss out on this unique opportunity to train like a warrior and tran
 sform your body and mind. Reserve your spot now and prepare to unleash you
 r inner warrior at Faena Hotel Miami Beach. Embrace the challenge\, conque
 r your fears\, and elevate your fitness to the next level!\n\nGET TICKETS\
 n
ATTACH;FMTTYPE=image/jpeg:https://breathemiami.us/wp-content/uploads/2024/
 06/Warrior-Training.jpg
CATEGORIES:Sports &amp; Fitness Events,Wellness Events
LOCATION:Faena Hotel\, 3201 Collins Avenue\, Miami Beach\, FL\, 33140\, Uni
 ted States
X-APPLE-STRUCTURED-LOCATION;VALUE=URI;X-ADDRESS=3201 Collins Avenue\, Miami
  Beach\, FL\, 33140\, United States;X-APPLE-RADIUS=100;X-TITLE=Faena Hotel
 :geo:0,0
END:VEVENT
BEGIN:VTIMEZONE
TZID:America/New_York
X-LIC-LOCATION:America/New_York
BEGIN:DAYLIGHT
DTSTART:20240310T030000
TZOFFSETFROM:-0500
TZOFFSETTO:-0400
TZNAME:EDT
END:DAYLIGHT
END:VTIMEZONE
END:VCALENDAR