BEGIN:VCALENDAR
VERSION:2.0
PRODID:-//wp-events-plugin.com//7.2.3.1//EN
TZID:America/New_York
X-WR-TIMEZONE:America/New_York
BEGIN:VEVENT
UID:1321@breathemiami.us
DTSTART:20251008T003000Z
DTEND:20251008T010000Z
DTSTAMP:20251007T153456Z
URL:https://breathemiami.us/events/vr-meditation-experience/
SUMMARY:VR Meditation Experience
DESCRIPTION:✨VR Meditation Experience✨\n&nbsp\;\n🌊Featuring: AQUAZUL
  VR Artwork\n✨ Produced + hosted by multidisciplinary artist Alissa Chri
 stine\n\n🎭 Commissioned by The Adrienne Arsht Center for the Performing
  Arts\n\n&nbsp\;\n🌌 The Experience\nDive into #BlueSpaces and flow thro
 ugh an innerdimensional VR meditation + sound journey designed to reset yo
 ur mind and restore balance.\n\n🌀 Feel weightless inside ocean-inspired
 \, hand-painted 3D worlds by Alissa Christine.\n\n💦 Refresh + re-energi
 ze your senses — all in just 30 minutes.\n\n&nbsp\;\n💙 Benefits\n• 
 🧘 Reduce stress + quiet the mind\n\n• 🌙 Support better sleep + foc
 us\n\n• ☮️ Promote inner peace + emotional reset\n\n• 🧠 Boost m
 indfulness + regulate your nervous system\n\n⸻\n⭐️ What’s Included
 \n• 10-min seated VR immersion\n\n• Guided breathwork + grounding\n\n
 • Immersive sound bath\n\n\n\n\n\n\n\n\n\n\n\n\n\n\n\n\n\n
ATTACH;FMTTYPE=image/jpeg:https://breathemiami.us/wp-content/uploads/2025/
 09/tsi5mstth9hyrs657wmm.png
CATEGORIES:Mindfulness Events,Sports &amp; Fitness Events,Things To
 Do,Wellness Events,Yoga Events
LOCATION:ARTXSPACE\, 301 NW 28th St\, Miami\, 33137\, FL\, United States
X-APPLE-STRUCTURED-LOCATION;VALUE=URI;X-ADDRESS=301 NW 28th St\, Miami\, 33
 137\, FL\, United States;X-APPLE-RADIUS=100;X-TITLE=ARTXSPACE:geo:0,0
END:VEVENT
END:VCALENDAR