BEGIN:VCALENDAR
VERSION:2.0
PRODID:-//wp-events-plugin.com//7.2.3.1//EN
TZID:America/New_York
X-WR-TIMEZONE:America/New_York
BEGIN:VEVENT
UID:1327@breathemiami.us
DTSTART;TZID=America/New_York:20251021T203000
DTEND;TZID=America/New_York:20251021T210000
DTSTAMP:20251007T154425Z
URL:https://breathemiami.us/events/vr-meditation-experience-3/
SUMMARY:VR Meditation Experience
DESCRIPTION:✨VR Meditation Experience✨\n🌊Featuring: AQUAZUL VR Artwo
 rk\n\n✨ Produced + hosted by multidisciplinary artist Alissa Christine\n
 \n🎭 Commissioned by The Adrienne Arsht Center for the Performing Arts\n
 \n&nbsp\;\n🌌 The Experience\nDive into #BlueSpaces and flow through an 
 innerdimensional VR meditation + sound journey designed to reset your mind
  and restore balance.\n\n🌀 Feel weightless inside ocean-inspired\, hand
 -painted 3D worlds by Alissa Christine.\n\n💦 Refresh + re-energize your
  senses — all in just 30 minutes.\n\n&nbsp\;\n💙 Benefits\n• 🧘 Re
 duce stress + quiet the mind\n\n• 🌙 Support better sleep + focus\n\n
 • ☮️ Promote inner peace + emotional reset\n\n• 🧠 Boost mindful
 ness + regulate your nervous system\n\n⸻\n⭐️ What’s Included\n• 
 10-min seated VR immersion\n\n• Guided breathwork + grounding\n\n• Imm
 ersive sound bath\n\n\n\n\n\n\n\n\n\n\n\n\n\n
ATTACH;FMTTYPE=image/jpeg:https://breathemiami.us/wp-content/uploads/2025/
 09/fv69jhymktxz6evr2fub.png
CATEGORIES:Mindfulness Events,Sports &amp; Fitness Events,Things To
 Do,Wellness Events,Yoga Events
LOCATION:ARTXSPACE\, 301 NW 28th St\, Miami\, 33137\, FL\, United States
X-APPLE-STRUCTURED-LOCATION;VALUE=URI;X-ADDRESS=301 NW 28th St\, Miami\, 33
 137\, FL\, United States;X-APPLE-RADIUS=100;X-TITLE=ARTXSPACE:geo:0,0
END:VEVENT
BEGIN:VTIMEZONE
TZID:America/New_York
X-LIC-LOCATION:America/New_York
BEGIN:DAYLIGHT
DTSTART:20250309T030000
TZOFFSETFROM:-0500
TZOFFSETTO:-0400
TZNAME:EDT
END:DAYLIGHT
END:VTIMEZONE
END:VCALENDAR