BEGIN:VCALENDAR
VERSION:2.0
PRODID:-//wp-events-plugin.com//7.2.3.1//EN
TZID:America/New_York
X-WR-TIMEZONE:America/New_York
BEGIN:VEVENT
UID:333@breathemiami.us
DTSTART;TZID=America/New_York:20240413T080000
DTEND;TZID=America/New_York:20240413T150000
DTSTAMP:20240909T082233Z
URL:https://breathemiami.us/events/vo2-performance-test-days-with-breathe-
 miami/
SUMMARY:VO2 Performance Test Days with Breathe Miami
DESCRIPTION:VO2 Performance Test Days with Breathe Miami\n\nDate: Every Sat
 urday\nTime: 8:00 AM - 3:00 PM\nLocation: Reserve Padel\, Miami\n\nOvervie
 w:\nElevate your performance and unlock your true potential at the VO2 Per
 formance Test Days\, exclusively offered by Breathe Miami at Reserve Padel
 . This premier event provides a unique blend of expert-led VO2 Max testing
 \, personalized wellness experiences\, and community engagement\, all desi
 gned to enhance your fitness journey.\n\nWhat to Expect:\n\n 	Expert-Led V
 O2 Max Testing: Engage in precise VO2 max testing to uncover your maximum 
 oxygen uptake and understand your aerobic capacity with lab-grade accuracy
 .\n 	Comprehensive Analysis &amp\; Personalized Recommendations: Gain insi
 ghtful analysis of your results with tailored advice on boosting your perf
 ormance through training\, nutrition\, and lifestyle adjustments.\n 	Comfo
 rt and Convenience: We provide hydration and towels to keep you comfortabl
 e. Please arrive in comfortable workout clothes ready for the test.\n 	Enh
 anced Recovery Experience: After your test\, participate in a rejuvenating
  session of breathwork and a cold plunge to aid in recovery. Plus\, enjoy 
 a complimentary Pura Vida post-workout smoothie to refresh and refuel.\n 	
 Community Connection: Join a like-minded community focused on health\, wel
 lness\, and achieving peak performance.\n\nWho Should Attend:\nAthletes\, 
 fitness enthusiasts\, and anyone keen on pushing their limits and understa
 nding their physical capabilities. If you're looking to optimize your work
 outs and improve your endurance\, this event is tailored for you.\n\nEvent
  Details:\n\n 	Cost per Ticket: $300\n 	Special Package Offer: Opt for our
  comprehensive package\, including 3 tests and 12 personalized coaching se
 ssions with key experts\, for $3\,500. This is the ultimate package for co
 ntinuous improvement and performance optimization.\n\nWhy VO2 Max?:\nVO2 m
 ax is a crucial indicator of physical fitness\, helping you tailor your tr
 aining to improve endurance\, efficiency\, and overall athletic performanc
 e. It's an invaluable tool for anyone serious about their health and fitne
 ss goals.\n\n\n\n\n\n\n\nRegistration:\nSpace is limited to ensure a perso
 nalized experience. Secure your spot now and embark on a journey to peak p
 erformance.\n\nContact Information:\n\n 	Website: Breathe Miami\n 	Email: 
 miami@breathemedianetwork.com\n\nJoin us at VO2 Performance Test Days with
  Breathe Miami for an unparalleled opportunity to explore your physical li
 mits\, engage in post-test recovery practices\, and connect with a communi
 ty that shares your passion for wellness. Elevate your fitness\, recover w
 ith purpose\, and optimize your performance with us.
ATTACH;FMTTYPE=image/jpeg:https://breathemiami.us/wp-content/uploads/2024/
 02/DSC08849-scaled.jpeg
CATEGORIES:Featured Events,Sports &amp; Fitness Events
END:VEVENT
BEGIN:VTIMEZONE
TZID:America/New_York
X-LIC-LOCATION:America/New_York
BEGIN:DAYLIGHT
DTSTART:20240310T030000
TZOFFSETFROM:-0500
TZOFFSETTO:-0400
TZNAME:EDT
END:DAYLIGHT
END:VTIMEZONE
END:VCALENDAR