BEGIN:VCALENDAR
VERSION:2.0
PRODID:-//wp-events-plugin.com//7.2.3.1//EN
TZID:America/New_York
X-WR-TIMEZONE:America/New_York
BEGIN:VEVENT
UID:545@breathemiami.us
DTSTART;TZID=America/New_York:20240616T093000
DTEND;TZID=America/New_York:20240616T103000
DTSTAMP:20240609T052933Z
URL:https://breathemiami.us/events/vizcaya-village-wellness/
SUMMARY:Vizcaya Village Wellness
DESCRIPTION:Immerse yourself in the serene ambiance of Vizcaya Village for 
 a revitalizing wellness experience set under the vibrant Miami sun. This s
 anctuary offers a perfect blend of nature and mindfulness\, inviting you t
 o unwind and rejuvenate.\nWeekly Outdoor Yoga Classes\nEvery Sunday for th
 e first three weeks of each month\, join us for an all-level outdoor yoga 
 class. Led by the seasoned instructors from Hanu Yoga Studio\, these sessi
 ons combine invigorating exercises with soulful meditation. Whether you're
  a beginner or an experienced yogi\, the expert guidance will help you con
 nect deeply with your body and mind\, enhancing your overall well-being.\n
 Diverse Wellness Classes\nOn the final Sunday of each month\, Vizcaya Vill
 age offers a rotating wellness class\, providing a diverse array of practi
 ces to enrich your wellness journey. From the graceful movements of Tai Ch
 i and the energetic rhythms of Zumba to the soothing vibrations of sound b
 owl meditation\, each class offers a unique pathway to relaxation and inne
 r peace.\nA Holistic Approach to Well-Being\nVizcaya Village Wellness is d
 esigned to cater to all aspects of your health. The tranquil outdoor setti
 ng enhances the experience\, allowing you to breathe in the fresh air and 
 bask in the beauty of the surrounding gardens. Each class aims to balance 
 physical fitness with mental clarity\, helping you achieve a harmonious st
 ate of being.\nJoin Us\nEscape the hustle and bustle of daily life and fin
 d your sanctuary at Vizcaya Village. This wellness series is perfect for a
 nyone looking to cultivate a balanced\, healthy lifestyle. Whether you’r
 e looking to stretch\, strengthen\, meditate\, or simply enjoy a peaceful 
 environment\, our diverse classes offer something for everyone.\nSchedule\
 n\n 	First Three Sundays: Outdoor Yoga Classes with Hanu Yoga Studio\n 	Fi
 nal Sunday: Rotating Wellness Classes (Tai Chi\, Zumba\, Sound Bowl Medita
 tion\, and more)\n\nSecure Your Spot\nDon't miss the opportunity to enhanc
 e your wellness journey in this beautiful\, historic setting. Join us at V
 izcaya Village and experience the transformative power of nature\, movemen
 t\, and mindfulness. Embrace the tranquility\, connect with like-minded in
 dividuals\, and step into a healthier\, more balanced version of yourself.
 \n\nGET TICKETS\n
ATTACH;FMTTYPE=image/jpeg:https://breathemiami.us/wp-content/uploads/2024/
 06/Vizcaya-Village-Wellness.jpg
CATEGORIES:Mindfulness Events,Wellness Events
LOCATION:Vizcaya Village Farmers Market\, 3250 South Miami Avenue Miami\, M
 iami Beach\, Florida\, 33129\,  FL \, United States
X-APPLE-STRUCTURED-LOCATION;VALUE=URI;X-ADDRESS=3250 South Miami Avenue Mia
 mi\, Miami Beach\, Florida\, 33129\,  FL \, United States;X-APPLE-RADIUS=1
 00;X-TITLE=Vizcaya Village Farmers Market:geo:0,0
END:VEVENT
BEGIN:VTIMEZONE
TZID:America/New_York
X-LIC-LOCATION:America/New_York
BEGIN:DAYLIGHT
DTSTART:20240310T030000
TZOFFSETFROM:-0500
TZOFFSETTO:-0400
TZNAME:EDT
END:DAYLIGHT
END:VTIMEZONE
END:VCALENDAR