BEGIN:VCALENDAR
VERSION:2.0
PRODID:-//wp-events-plugin.com//7.2.3.1//EN
TZID:America/New_York
X-WR-TIMEZONE:America/New_York
BEGIN:VEVENT
UID:191@breathemiami.us
DTSTART;TZID=America/New_York:20231209T120000
DTEND;TZID=America/New_York:20231210T180000
DTSTAMP:20231205T011047Z
URL:https://breathemiami.us/events/vittoria-regias-immersive-art-experienc
 e-at-miami-art-week-2023/
SUMMARY:Vittoria Regia's Immersive Art Experience at Miami Art Week 2023
DESCRIPTION:Unveiling the Mystique of Chakras at Soho Pool House\nThis Dece
 mber\, Vittoria Regia invites you to a transformative experience during Mi
 ami Art Week 2023. Join us at the Soho Pool House for a unique multi-senso
 ry installation that transcends conventional art boundaries\, merging crea
 tivity with the ancient wisdom of chakras and sacred healing arts.\nThe Po
 wer of Chakras: Pathways to Spiritual and Physical Harmony\nAt the core of
  this event is the exploration of the seven primary chakras. These energy 
 centers\, symbolizing the intersection of life-force energy\, mirror the b
 ody's nerve centers. Influencing both our mental and physical health\, the
  chakras are vital in maintaining balance and harmony within our lives. Wh
 en Kundalini energy\, depicted as a coiled serpent at the base of the spin
 e\, is awakened\, it travels upwards through these chakras\, enhancing our
  consciousness and perception of beauty.\nCultivating Positive Energy Flow
  for Holistic Well-being\nThe state of our chakras significantly impacts o
 ur overall well-being. A downward flow of energy can lead to negative emot
 ions and health issues\, while an upward movement fosters positivity\, cre
 ativity\, and joy. This event emphasizes the importance of encouraging an 
 upward flow through practices like meditation\, yoga\, and healthy living\
 , resonating with the ancient healing traditions supported by modern scien
 tific understanding.\nIntegrating Ancient Wisdom with Modern Art\nVittoria
  Regia's event seamlessly integrates the ancient healing arts with contemp
 orary artistic expression. By balancing the chakras\, attendees will exper
 ience a range of positive emotions and a heightened sense of spiritual and
  physical wellness. The immersive installation not only promises visual de
 light but also offers a journey through the subtle energies that govern ou
 r emotional and physical states.\nExperience the Convergence of Art and He
 aling\nThis unique event at the Soho Pool House is a celebration of art\, 
 spirituality\, and the ancient practice of chakra healing. It's an opportu
 nity to delve into a world where every sense is engaged\, and every moment
  is a step towards self-discovery and holistic well-being. Join us in this
  extraordinary exploration of the sacred healing arts intertwined with the
  vibrant world of contemporary art.\n\n&nbsp\;\n\n&nbsp\;\n\nRSVP Now\n
ATTACH;FMTTYPE=image/jpeg:https://breathemiami.us/wp-content/uploads/2023/
 12/chrome_5RxRbAgoDc.png
LOCATION:Soho Pool House\, 105-107 NE 25th St\, Miami\, Florida\, 33137\, U
 nited States
X-APPLE-STRUCTURED-LOCATION;VALUE=URI;X-ADDRESS=105-107 NE 25th St\, Miami\
 , Florida\, 33137\, United States;X-APPLE-RADIUS=100;X-TITLE=Soho Pool Hou
 se:geo:0,0
END:VEVENT
BEGIN:VTIMEZONE
TZID:America/New_York
X-LIC-LOCATION:America/New_York
BEGIN:STANDARD
DTSTART:20231105T010000
TZOFFSETFROM:-0400
TZOFFSETTO:-0500
TZNAME:EST
END:STANDARD
END:VTIMEZONE
END:VCALENDAR