BEGIN:VCALENDAR
VERSION:2.0
PRODID:-//wp-events-plugin.com//7.2.3.1//EN
TZID:America/New_York
X-WR-TIMEZONE:America/New_York
BEGIN:VEVENT
UID:562@breathemiami.us
DTSTART;TZID=America/New_York:20240725T160000
DTEND;TZID=America/New_York:20240728T120000
DTSTAMP:20240623T190617Z
URL:https://breathemiami.us/events/vip-queen-retreat/
SUMMARY:VIP Queen Retreat by Coach Jennifer Nicole Lee
DESCRIPTION:Step into the ultimate fitness celebration at the 2024 VIP Quee
 n Fun Fitness Retreat\, proudly hosted by Coach Jennifer Nicole Lee! This 
 exclusive event invites you to revel in your fitness triumphs amidst the v
 ibrant backdrop of the Magic City.\n\nCoach Jennifer Nicole Lee\, renowned
  as "The Queen of Wellness" with nearly two decades of expertise as a lead
 ing fitness coach\, extends her global influence to empower participants w
 ith her transformative teachings.\n\nExperience Elevated: Embrace a weeken
 d dedicated to elevating your fitness journey to new heights and illuminat
 ing your path to personal wellness. Whether you’re a seasoned fitness en
 thusiast or just embarking on your wellness quest\, the VIP Queen Retreat 
 promises a revitalizing experience.\n\nHighlights of the Retreat:\n\n 	Fit
 ness Empowerment: Engage with Coach Jennifer Nicole Lee's signature fitnes
 s methodologies and insights garnered from her extensive coaching career.\
 n 	Wellness Workshops: Dive into immersive workshops designed to enhance y
 our understanding of holistic health\, nutrition\, and mental well-being.\
 n 	Interactive Sessions: Participate in interactive sessions that blend fi
 tness challenges\, motivational talks\, and goal-setting strategies to ign
 ite your inner champion.\n 	Community Connection: Connect with like-minded
  individuals who share a passion for health and wellness\, fostering a sup
 portive and inspiring community.\n\nWhy Attend: This retreat is a rare opp
 ortunity to learn from one of the industry's most respected figures\, Coac
 h Jennifer Nicole Lee\, whose expertise and passion for wellness have tran
 sformed lives globally. Whether you seek to kick-start your fitness journe
 y or refine your existing regimen\, the VIP Queen Retreat promises to empo
 wer you with the tools and motivation needed to achieve your goals.\n\nJoi
 n Coach Jennifer Nicole Lee and fellow fitness enthusiasts for a weekend o
 f empowerment\, transformation\, and celebration of fitness victories at t
 he 2024 VIP Queen Fun Fitness Retreat. Discover what it means to elevate y
 our wellness journey in the heart of the Magic City.\n\nGET TICKETS\n
ATTACH;FMTTYPE=image/jpeg:https://breathemiami.us/wp-content/uploads/2024/
 06/VIP-Queen-Retreat-by-Coach-Jennifer-Nicole-Lee.jpg
CATEGORIES:Sports &amp; Fitness Events,Wellness Events
LOCATION:Kimpton Angler's Hotel\, 660 Washington Avenue Miami Beach\, Miami
 \, Florida\, 33139\,  FL \, United States
X-APPLE-STRUCTURED-LOCATION;VALUE=URI;X-ADDRESS=660 Washington Avenue Miami
  Beach\, Miami\, Florida\, 33139\,  FL \, United States;X-APPLE-RADIUS=100
 ;X-TITLE=Kimpton Angler's Hotel:geo:0,0
END:VEVENT
BEGIN:VTIMEZONE
TZID:America/New_York
X-LIC-LOCATION:America/New_York
BEGIN:DAYLIGHT
DTSTART:20240310T030000
TZOFFSETFROM:-0500
TZOFFSETTO:-0400
TZNAME:EDT
END:DAYLIGHT
END:VTIMEZONE
END:VCALENDAR