BEGIN:VCALENDAR
VERSION:2.0
PRODID:-//wp-events-plugin.com//7.2.3.1//EN
TZID:America/New_York
X-WR-TIMEZONE:America/New_York
BEGIN:VEVENT
UID:1066@breathemiami.us
DTSTART;TZID=America/New_York:20241027T170000
DTEND;TZID=America/New_York:20241027T200000
DTSTAMP:20241013T091536Z
URL:https://breathemiami.us/events/viniesta-2024/
SUMMARY:VINIESTA 2024
DESCRIPTION:Following its successful launch in Spain in 2021 and its debut 
 in New York City in 2022\, Viniesta is making its highly anticipated retur
 n to Miami and Tampa this Fall 2024!\n\nThis vibrant celebration invites b
 oth wine lovers and cultural enthusiasts to indulge in an exquisite select
 ion of thirst-quenching wines. Attendees will have the opportunity to samp
 le over 200 wines from more than 20 esteemed winemakers\, each bringing th
 eir unique stories and craftsmanship to the table. Whether you are an expe
 rienced connoisseur or simply enjoy the flavors of Spanish culture\, Vinie
 sta promises an unforgettable experience.\n\nCulinary Delights Await\n\nAl
 ongside the exceptional wines\, guests will savor traditional Spanish pint
 xos—small\, delicious bites included with their ticket purchase. For tho
 se looking to further enhance their culinary experience\, additional food 
 options will also be available for purchase.\n\nJoin the Celebration!\n\nP
 repare to come thirsty\, hungry\, and ready to celebrate at this lively ev
 ent! Viniesta 2024 is not just about wine\; it’s a fiesta that promises 
 to unite enthusiasts and ignite a passion for Spanish culture through tast
 e\, stories\, and connections. Don’t miss out on this opportunity to ind
 ulge in the rich flavors and vibrant atmosphere that only Viniesta can off
 er!\n\nGET TICKETS\n
ATTACH;FMTTYPE=image/jpeg:https://breathemiami.us/wp-content/uploads/2024/
 10/VINIESTA-2024.jpg
CATEGORIES:Food &amp; Drink Events,Things To Do
LOCATION:Maty's\, 3255 Northeast 1st Avenue \, Miami\, Florida\, 33137\, FL
 \, United States
X-APPLE-STRUCTURED-LOCATION;VALUE=URI;X-ADDRESS=3255 Northeast 1st Avenue \
 , Miami\, Florida\, 33137\, FL\, United States;X-APPLE-RADIUS=100;X-TITLE=
 Maty's:geo:0,0
END:VEVENT
BEGIN:VTIMEZONE
TZID:America/New_York
X-LIC-LOCATION:America/New_York
BEGIN:DAYLIGHT
DTSTART:20240310T030000
TZOFFSETFROM:-0500
TZOFFSETTO:-0400
TZNAME:EDT
END:DAYLIGHT
END:VTIMEZONE
END:VCALENDAR