BEGIN:VCALENDAR
VERSION:2.0
PRODID:-//wp-events-plugin.com//7.2.3.1//EN
TZID:America/New_York
X-WR-TIMEZONE:America/New_York
BEGIN:VEVENT
UID:187@breathemiami.us
DTSTART;TZID=America/New_York;VALUE=DATE:20230923
DTEND;TZID=America/New_York;VALUE=DATE:20230925
DTSTAMP:20231202T202515Z
URL:https://breathemiami.us/events/van-gogh-miami/
SUMMARY:Van Gogh: The Immersive Experience Miami
DESCRIPTION:Van Gogh: The Immersive Experience in Miami offers a 360º digi
 tal art journey into Vincent van Gogh's universe. Organized by renowned ex
 hibition creators with global success.\n\nGet Your Tickets:\n\n 	Standard 
 Access - Includes exhibition entry for adults\, children (4-12)\, families
 \, seniors\, students\, military\, and groups.\n 	VIP Access - Includes ex
 hibition and VR experience entry\, skip-the-line\, and a poster.\n 	Premiu
 m Flex Entry VIP - Full access on selected date\, VR experience\, and post
 er (available from July 16).\n\nAdd-on Merchandise Bundles - Various optio
 ns available.\n\nHighlights:\n🎨 Rediscover Van Gogh's art in a 360-degr
 ee digital showcase.\n👨‍🎨 Immerse in his masterpieces and a unique
  VR experience.\n📽️ Explore "A Day in the Life of the Artist in Arles
 \, France" in VR.\n✨ Experience digital displays\, projection mapping\, 
 and more!\n\nGeneral Info:\n📅 Select dates and times in the ticket sele
 ctor.\n⏳ Duration: 60-75 minutes.\n👤 All ages welcome\; free entry fo
 r under 4.\n📍 Olympia Theater - Wheelchair accessible.\n❓ Check FAQs 
 for details.\n🎁 Gift cards available.\n\n&nbsp\;\nClick for Tickets\n\n
 \nDescription:\n\nStep into the enchanting world of Van Gogh right here in
  Miami\, where you can embark on an extraordinary voyage through the life 
 and artistry of the 19th-century genius\, Vincent van Gogh. This immersive
  experience transcends traditional exhibitions\, offering you a captivatin
 g journey into the depths of Van Gogh's creativity.\n\nPrepare to unravel 
 the secrets behind his iconic masterpieces as you encounter state-of-the-a
 rt digital projections\, innovative virtual reality (VR) technology\, and 
 immersive light and sound displays. This immersive extravaganza is a creat
 ion by Exhibition Hub\, a name synonymous with awe-inspiring exhibitions t
 hat have captivated the hearts of millions.\n\nNotably\, Van Gogh: The Imm
 ersive Experience has already left its indelible mark on over 2 million vi
 sitors across the United States and London. Now\, it's Miami's turn to be 
 spellbound by the magic of this extraordinary exhibition. Immerse yourself
  completely in the world of Van Gogh\, where reality merges with art in th
 e most mesmerizing way.\n\nThis immersive journey is unlike anything you'v
 e ever experienced. As you step into Van Gogh's world\, you'll find yourse
 lf transported into the very essence of his creations. The cutting-edge di
 gital projections will make his paintings come alive in a way that you've 
 never imagined possible. The unique VR experience allows you to travel thr
 ough "A Day in the Life of the Artist in Arles\, France\," offering a prof
 oundly intimate encounter with Van Gogh's world.\n\nThe exhibition is not 
 just about visual marvels\; it's a multisensory delight. You'll be envelop
 ed in a symphony of light and sound\, amplifying the emotional impact of V
 an Gogh's art. It's a journey that engages all your senses\, creating a tr
 ue shift in your perception of reality.\n\nAnd the best part? You can be p
 art of this artistic adventure right here in Miami. So\, don't miss your c
 hance to step into the world of one of the greatest artists in history. Ge
 t your tickets now for Van Gogh: The Immersive Experience in Miami\, and l
 et the magic of his art transport you to a realm where creativity knows no
  bounds.\n\n&nbsp\;
ATTACH;FMTTYPE=image/jpeg:https://breathemiami.us/wp-content/uploads/2023/
 09/AdobeStock_503180604_Editorial_Use_Only-scaled.jpeg
CATEGORIES:Mindfulness Events,Things To Do
LOCATION:Olympia Theater\, 174 East Flagler Street\, Miami\, Florida\, 3313
 1-1130\, United States
X-APPLE-STRUCTURED-LOCATION;VALUE=URI;X-ADDRESS=174 East Flagler Street\, M
 iami\, Florida\, 33131-1130\, United States;X-APPLE-RADIUS=100;X-TITLE=Oly
 mpia Theater:geo:0,0
END:VEVENT
BEGIN:VTIMEZONE
TZID:America/New_York
X-LIC-LOCATION:America/New_York
BEGIN:DAYLIGHT
DTSTART:20230312T030000
TZOFFSETFROM:-0500
TZOFFSETTO:-0400
TZNAME:EDT
END:DAYLIGHT
END:VTIMEZONE
END:VCALENDAR