BEGIN:VCALENDAR
VERSION:2.0
PRODID:-//wp-events-plugin.com//7.2.3.1//EN
TZID:America/New_York
X-WR-TIMEZONE:America/New_York
BEGIN:VEVENT
UID:812@breathemiami.us
DTSTART;TZID=America/New_York:20240925T090000
DTEND;TZID=America/New_York:20240925T150000
DTSTAMP:20240907T013627Z
URL:https://breathemiami.us/events/unleashed-retreat/
SUMMARY:Unleashed Retreat
DESCRIPTION:Hosted by Yoga Rhythms Retreats\, the Unleashed Retreat is a fu
 ll day dedicated to nurturing your body\, mind\, and spirit. This event pr
 omises a journey of holistic well-being\, immersive practices\, and meanin
 gful connections. Unleash the energy within you as you dive into a series 
 of enriching activities designed to restore balance and vitality. Whether 
 you're seeking relaxation or rejuvenation\, this retreat offers the perfec
 t environment to reconnect with yourself and others. Reserve your spot for
  a transformative experience like no other!\nRetreat Highlights:\n\n 	LaCr
 oix Sparkling Water Mocktails &amp\; Giveaways\nBegin your day with refres
 hing\, hydrating LaCroix mocktails and enjoy exciting giveaways that keep 
 the energy flowing.\n 	Shamanic Tonic Cacao Ceremony\nOpen your heart and 
 elevate your spirit with a sacred cacao ceremony. Rooted in ancient tradit
 ions\, this practice fosters connection and healing through the powerful p
 roperties of cacao\, helping participants access deeper layers of self-awa
 reness and emotional openness.\n 	Curated Music Yoga\nFlow through a caref
 ully curated yoga session set to an inspiring soundtrack. This practice bl
 ends movement and music\, enhancing strength\, flexibility\, and inner pea
 ce. Whether you are a beginner or a seasoned yogi\, this rhythmic flow wil
 l help you find balance and alignment.\n 	Sacred Ocean Ritual\nExperience 
 a deep connection to nature with a sacred ritual by the ocean. This ceremo
 ny\, designed to invoke the healing energies of the sea\, will ground your
  spirit and leave you feeling centered and at peace.\n 	Ecstatic Dance\nLi
 berate your body and mind with an ecstatic dance session. Guided by rhythm
  and flow\, this expressive dance allows you to release tension\, feel joy
 \, and reach a state of bliss through movement.\n 	Sound Healing\nSurrende
 r to the therapeutic vibrations of sound healing. This session will immers
 e you in soothing frequencies\, promoting energy balance\, emotional heali
 ng\, and deep relaxation.\n 	Lunch at the Beachcomber Restaurant\nEnjoy a 
 delicious meal at the Beachcomber Restaurant. Indulge in a thoughtfully pr
 epared entrée and refreshing non-alcoholic beverages\, all while soaking 
 in the tranquil beauty of the beach surroundings.\n\nThis wellness retreat
  is designed to restore and recharge\, allowing participants to step into 
 their full potential while embracing community\, healing\, and joy. With a
  perfect mix of invigorating activities and restorative practices\, the Un
 leashed Retreat offers an unforgettable day of growth\, transformation\, a
 nd relaxation.\n\nGET TICKETS\n
ATTACH;FMTTYPE=image/jpeg:https://breathemiami.us/wp-content/uploads/2024/
 09/Unleashed-Retreat.jpg
CATEGORIES:Mindfulness Events,Nature Events,Retreats Events,Things To
 Do,Wellness Events,Yoga Events
LOCATION:Beachcomber Resort and Villas\, 1200 South Ocean Boulevard Pompano
  Beach\, Miami\, Florida\, 33062\, FL\, United States
X-APPLE-STRUCTURED-LOCATION;VALUE=URI;X-ADDRESS=1200 South Ocean Boulevard 
 Pompano Beach\, Miami\, Florida\, 33062\, FL\, United States;X-APPLE-RADIU
 S=100;X-TITLE=Beachcomber Resort and Villas:geo:0,0
END:VEVENT
BEGIN:VTIMEZONE
TZID:America/New_York
X-LIC-LOCATION:America/New_York
BEGIN:DAYLIGHT
DTSTART:20240310T030000
TZOFFSETFROM:-0500
TZOFFSETTO:-0400
TZNAME:EDT
END:DAYLIGHT
END:VTIMEZONE
END:VCALENDAR