BEGIN:VCALENDAR
VERSION:2.0
PRODID:-//wp-events-plugin.com//7.2.3.1//EN
TZID:America/New_York
X-WR-TIMEZONE:America/New_York
BEGIN:VEVENT
UID:1299@breathemiami.us
DTSTART;TZID=America/New_York:20250308T190000
DTEND;TZID=America/New_York:20250308T230000
DTSTAMP:20250301T042111Z
URL:https://breathemiami.us/events/uncorked-chicago/
SUMMARY:Uncorked: Chicago
DESCRIPTION:\n\n\n\n\n\n\n\n\nOn Saturday\, March 8th\, Chicago wine enthus
 iasts are invited to an unforgettable experience at the stunning Field Mus
 eum. Uncorked: Chicago offers guests the chance to sip and swirl over 100 
 wines and bubblies from around the world while exploring this iconic museu
 m. Guests can indulge in delicious bites\, dance to a curated DJ playlist\
 , and discover a new Zero Proof Lounge offering N/A wines and craft mockta
 ils. This year’s event also features an expanded VIP area downstairs wit
 h exclusive access to even more premium wineries.\nTicket Options:\n\n\n 	
 VIP Admission ($110): 7 PM entry with 4 hours of access\, shorter lines\, 
 exclusive VIP area with premium wineries\, and a $30 food voucher.\n 	Earl
 y Admission ($85): 7 PM entry with 4 hours of access to the museum and tas
 tings of 50+ brands\, plus smaller capacity during the first hour.\n 	Gene
 ral Admission ($70): 8 PM entry with 3 hours of access and tastings of 50+
  brands.\n\nAll ticket types include wine tastings\; only VIP includes foo
 d. Additional food is available for purchase.\nBring your curiosity\, your
  thirst\, and get "uncorked" this spring in one of Chicago's most iconic v
 enues. This event is 21+ only. For more details\, visit www.uncorkedwinefe
 stivals.com.\nNote: No refunds.\n\n\n\n\n\n\n\n\n\n\n\n\n\n\n\n\n\n\n\n\n\
 n\n\nGET TICKETS\n
ATTACH;FMTTYPE=image/jpeg:https://breathemiami.us/wp-content/uploads/2025/
 02/Uncorked.avif
CATEGORIES:Wellness Events
LOCATION:Field Museum\, 1400 South Lake Shore\,  Drive Chicago\, Illinois\,
  60605\,  IL \, United States
X-APPLE-STRUCTURED-LOCATION;VALUE=URI;X-ADDRESS=1400 South Lake Shore\,  Dr
 ive Chicago\, Illinois\, 60605\,  IL \, United States;X-APPLE-RADIUS=100;X
 -TITLE=Field Museum:geo:0,0
END:VEVENT
BEGIN:VTIMEZONE
TZID:America/New_York
X-LIC-LOCATION:America/New_York
BEGIN:STANDARD
DTSTART:20241103T010000
TZOFFSETFROM:-0400
TZOFFSETTO:-0500
TZNAME:EST
END:STANDARD
END:VTIMEZONE
END:VCALENDAR