BEGIN:VCALENDAR
VERSION:2.0
PRODID:-//wp-events-plugin.com//7.2.3.1//EN
TZID:America/New_York
X-WR-TIMEZONE:America/New_York
BEGIN:VEVENT
UID:1271@breathemiami.us
DTSTART;TZID=America/New_York:20250310T090000
DTEND;TZID=America/New_York:20250310T110000
DTSTAMP:20250218T041355Z
URL:https://breathemiami.us/events/ultimate-signature-package-for-relaxati
 on-and-renewal/
SUMMARY:Ultimate Signature Package for Relaxation and Renewal
DESCRIPTION:The BRC Mind and Body Wellness experience offers a carefully cu
 rated selection of holistic\, touch-free therapies designed to promote phy
 sical rejuvenation\, mental clarity\, and overall well-being. These innova
 tive treatments cater to individuals seeking to restore balance\, enhance 
 vitality\, and achieve optimal health in a stress-free\, non-invasive mann
 er.\n\nWhy Choose Our Signature Packages?\nPreferred by wellness enthusias
 ts\, these transformative therapies help individuals:✔ Rejuvenate the bo
 dy for a youthful\, revitalized feeling✔ Improve sleep quality and enhan
 ce mood stability✔ Increase energy levels and combat fatigue✔ Support 
 natural detoxification to eliminate toxins✔ Enhance skin health for a ra
 diant glow✔ Aid in weight loss through scientifically-backed wellness me
 thods✔ Accelerate muscle recovery and promote post-surgery healing\nEach
  package is designed to restore harmony between the mind and body\, offeri
 ng an effective approach to long-term wellness and renewal. Whether seekin
 g deep relaxation\, increased vitality\, or enhanced physical recovery\, t
 hese signature treatments provide an unparalleled pathway to total well-be
 ing.\n\n\nGET TICKETS\n
ATTACH;FMTTYPE=image/jpeg:https://breathemiami.us/wp-content/uploads/2025/
 02/BEST-SIGNATURE-PACKAGE-FOR-RELAXATION-AND-RENEWAL.avif
CATEGORIES:Featured Events,Wellness Events
LOCATION:7900 SW 57th Ave suite 24\, 7900 Southwest 57th Avenue\, suite 24 
 South Miami\, Florida\, 33143\, FL\, United States
X-APPLE-STRUCTURED-LOCATION;VALUE=URI;X-ADDRESS=7900 Southwest 57th Avenue\
 , suite 24 South Miami\, Florida\, 33143\, FL\, United States;X-APPLE-RADI
 US=100;X-TITLE=7900 SW 57th Ave suite 24:geo:0,0
END:VEVENT
BEGIN:VTIMEZONE
TZID:America/New_York
X-LIC-LOCATION:America/New_York
BEGIN:DAYLIGHT
DTSTART:20250309T030000
TZOFFSETFROM:-0500
TZOFFSETTO:-0400
TZNAME:EDT
END:DAYLIGHT
END:VTIMEZONE
END:VCALENDAR