BEGIN:VCALENDAR
VERSION:2.0
PRODID:-//wp-events-plugin.com//7.2.3.1//EN
TZID:America/New_York
X-WR-TIMEZONE:America/New_York
BEGIN:VEVENT
UID:197@breathemiami.us
DTSTART;TZID=America/New_York:20231209T103000
DTEND;TZID=America/New_York:20231209T113000
DTSTAMP:20240221T025617Z
URL:https://breathemiami.us/events/twin-hearts-meditation-with-agustina-ca
 minos-in-miami/
SUMMARY:Twin Hearts Meditation with Agustina Caminos
DESCRIPTION:Event Information:\n\n\n\n\n\n\n\n\n\n\n\n\n\nEmbark on a profo
 und journey as Tierra Santa Healing House and Modern ŌM extend a heartfel
 t invitation to a transformative experience – a special Twin Hearts Medi
 tation with the guiding presence of Agustina Caminos. Join us in this harm
 onious convergence of healing energy\, where Tierra Santa's sacred space a
 nd Modern ŌM's mindful essence come together to create a soul-nourishing 
 meditation led by the esteemed Agustina Caminos. Your participation is wel
 comed with open hearts\, as we collectively embark on a journey of loving-
 kindness and spiritual elevation.\n\n\n\n\n\n\n\n\n\n\n\n\n\nDate and Time
 :December 9 · 10:30 - 11:30am EST\n\nAbout this event:\n\n 	Join Faena Sp
 a Director Agustina Caminos for a powerful Twin Hearts Meditation\, a prac
 tice designed to bless the earth with loving-kindness. Experience the prof
 ound connection between the energy we emit and what we receive in return.\
 n 	Meditation on Twin Hearts\, introduced by Master Choa Kok Sui\, is a si
 mple yet potent technique for achieving cosmic consciousness. It cleanses 
 the aura\, clears and sharpens the mind\, and brings calmness to the emoti
 ons—a spiritual shower for enhanced awareness.\n\nDuration: 1 hour\n\nTi
 cket Information:\n\n 	Ticket Type: Mobile eTicket\n 	Suggested Contributi
 on: $20 (Adjustable up or down\, optional for ACCESS PLAN Members)\n\n\nGE
 T TICKETS\n\n\nWorkout Session Details:\n\n 	Instructor: Agustina Caminos\
 , Wellness Director for Faena Group and Spa Director at Faena Hotel Miami 
 Beach.\n 	Location: Surrounding the MAZE: JOURNEY THROUGH THE ALGORITHMIC 
 SELF by SEBASTIAN ERRAZURIZ on the beach in front of Faena Hotel. Please m
 eet at the entrance of the maze.\n 	Essentials to Bring: Towel\, mat or bl
 anket\, refillable water bottle\, and an open heart.\n\nParking Options:\n
 \n 	Valet parking at Faena Hotel\n 	Municipal lot one block north of Faena
 \n
ATTACH;FMTTYPE=image/jpeg:https://breathemiami.us/wp-content/uploads/2023/
 12/https___cdn.evbuc_.com_images_650275309_1145507310493_1_original.jpg
CATEGORIES:Wellness Events
LOCATION:3201 Collins Avenue Miami Beach\, 3201 Collins Avenue Miami Beach\
 , Miami Beach\, FL\, 33140\, United States
X-APPLE-STRUCTURED-LOCATION;VALUE=URI;X-ADDRESS=3201 Collins Avenue Miami B
 each\, Miami Beach\, FL\, 33140\, United States;X-APPLE-RADIUS=100;X-TITLE
 =3201 Collins Avenue Miami Beach:geo:0,0
END:VEVENT
BEGIN:VTIMEZONE
TZID:America/New_York
X-LIC-LOCATION:America/New_York
BEGIN:STANDARD
DTSTART:20231105T010000
TZOFFSETFROM:-0400
TZOFFSETTO:-0500
TZNAME:EST
END:STANDARD
END:VTIMEZONE
END:VCALENDAR