BEGIN:VCALENDAR
VERSION:2.0
PRODID:-//wp-events-plugin.com//7.2.3.1//EN
TZID:America/New_York
X-WR-TIMEZONE:America/New_York
BEGIN:VEVENT
UID:234@breathemiami.us
DTSTART;TZID=America/New_York:20240121T150000
DTEND;TZID=America/New_York:20240121T160000
DTSTAMP:20240221T025541Z
URL:https://breathemiami.us/events/twin-hearts-meditation-with-agustina-ca
 minos-in-faena-hotel-miami/
SUMMARY:Twin Hearts Meditation with Agustina Caminos
DESCRIPTION:Event Information:\n\nEmbark on a transformative journey with F
 aena Spa Director Agustina Caminos as she guides you through a powerful Tw
 in Hearts Meditation. Join us in sending love out to the universe\, settin
 g the stage to gracefully receive its boundless energy in return.\n\nDate 
 and Time:Sunday\, January 21\, 2024 · 3 - 4pm EST\n\nAbout this event:\n\
 n 	Immerse yourself in a transformative experience led by Faena Spa Direct
 or Agustina Caminos during a powerful Twin Hearts Meditation. This session
  is more than a meditation\; it's an opportunity to send love out into the
  universe and receive it in return.\n\nDuration: 1 hour\n\nTicket Informat
 ion:\n\n 	Mobile eTicket: Yes\n\n\nGET TICKETS\n\n\nWorkout Session Detail
 s:\n\n 	Explore the simplicity and potency of the Twin Hearts Meditation t
 echnique introduced by Master Choa Kok Sui. Agustina Caminos will guide yo
 u through this practice\, focusing on blessing the earth with loving-kindn
 ess. The meditation flushes and cleanses the aura\, using spiritual energy
  to clear and sharpen the mind\, creating a sense of calmness and stillnes
 s. It's like a spiritual shower that elevates your awareness.\n\nEssential
 s to Bring:\n\n 	A refillable water bottle\n 	A meditation cushion or yoga
  mat\n 	An open heart\n\nParking Options:\n\n 	Valet parking at Faena Hote
 l\n 	Municipal lot 1 block north of Faena\n
ATTACH;FMTTYPE=image/jpeg:https://breathemiami.us/wp-content/uploads/2023/
 12/https___cdn.evbuc_.com_images_624231449_1145507310493_1_original.jpg
CATEGORIES:Wellness Events,Yoga Events
LOCATION:Faena Hotel\, 3201 Collins Avenue\, Miami Beach\, FL\, 33140\, Uni
 ted States
X-APPLE-STRUCTURED-LOCATION;VALUE=URI;X-ADDRESS=3201 Collins Avenue\, Miami
  Beach\, FL\, 33140\, United States;X-APPLE-RADIUS=100;X-TITLE=Faena Hotel
 :geo:0,0
END:VEVENT
BEGIN:VTIMEZONE
TZID:America/New_York
X-LIC-LOCATION:America/New_York
BEGIN:STANDARD
DTSTART:20231105T010000
TZOFFSETFROM:-0400
TZOFFSETTO:-0500
TZNAME:EST
END:STANDARD
END:VTIMEZONE
END:VCALENDAR