BEGIN:VCALENDAR
VERSION:2.0
PRODID:-//wp-events-plugin.com//7.2.3.1//EN
TZID:America/New_York
X-WR-TIMEZONE:America/New_York
BEGIN:VEVENT
UID:661@breathemiami.us
DTSTART;TZID=America/New_York:20240804T150000
DTEND;TZID=America/New_York:20240804T160000
DTSTAMP:20240804T072207Z
URL:https://breathemiami.us/events/twin-hearts-meditation-with-agustina-ca
 minos-4/
SUMMARY:Twin Hearts Meditation with Agustina Caminos
DESCRIPTION:Join Faena Spa Director Agustina Caminos for a powerful Twin He
 arts Meditation session designed to bless the earth with loving-kindness. 
 This meditation practice\, based on the teachings of Master Choa Kok Sui\,
  helps participants achieve cosmic consciousness\, or “illumination\,”
  by cleansing and energizing the aura.\nEvent Details:\nMeditation Benefit
 s:\n\n 	Aura Cleansing: The Twin Hearts Meditation acts like a spiritual s
 hower\, flushing and cleansing the aura with spiritual energy.\n 	Mental C
 larity: Clear and sharpen your mind by removing negative energies.\n 	Emot
 ional Calmness: Experience calmness and stillness\, leading to a heightene
 d state of awareness and inner peace.\n\nAbout the Instructor: Agustina Ca
 minos is the Wellness Director for Faena Group and Spa Director at Faena H
 otel Miami Beach. She is a Pranic Healing instructor\, therapist\, spiritu
 al guide\, and professor of yoga and alternative medicine. With a rich bac
 kground in various healing modalities\, she brings a wealth of knowledge a
 nd experience to her sessions.\n\nLocation: Faena Hotel\, 3201 Collins Ave
 nue\, Miami Beach\, FL 33140.\n\nParking: Valet parking is available at Fa
 ena Hotel\, or you can use the municipal lot one block north of the hotel.
 \n\nWhat to Bring:\n\n 	Refillable water bottle\n 	Meditation cushion or y
 oga mat\n 	An open heart\n\nTickets: This session is pay-what-you-wish\, w
 ith a suggested contribution of $11. Adjust as you feel comfortable.\n\nEm
 bark on a journey of self-discovery and global kindness with the Twin Hear
 ts Meditation. We look forward to sharing this transformative experience w
 ith you.\n\nGET TICKETS\n
ATTACH;FMTTYPE=image/jpeg:https://breathemiami.us/wp-content/uploads/2024/
 07/Twin-Hearts-Meditation-with-Agustina-Caminos.jpg
CATEGORIES:Mindfulness Events,Things To Do,Wellness Events
LOCATION:Faena Hotel\, 3201 Collins Avenue\, Miami Beach\, FL\, 33140\, Uni
 ted States
X-APPLE-STRUCTURED-LOCATION;VALUE=URI;X-ADDRESS=3201 Collins Avenue\, Miami
  Beach\, FL\, 33140\, United States;X-APPLE-RADIUS=100;X-TITLE=Faena Hotel
 :geo:0,0
END:VEVENT
BEGIN:VTIMEZONE
TZID:America/New_York
X-LIC-LOCATION:America/New_York
BEGIN:DAYLIGHT
DTSTART:20240310T030000
TZOFFSETFROM:-0500
TZOFFSETTO:-0400
TZNAME:EDT
END:DAYLIGHT
END:VTIMEZONE
END:VCALENDAR