BEGIN:VCALENDAR
VERSION:2.0
PRODID:-//wp-events-plugin.com//7.2.3.1//EN
TZID:America/New_York
X-WR-TIMEZONE:America/New_York
BEGIN:VEVENT
UID:1082@breathemiami.us
DTSTART;TZID=America/New_York:20241110T150000
DTEND;TZID=America/New_York:20241110T160000
DTSTAMP:20241013T130321Z
URL:https://breathemiami.us/events/twin-hearts-meditation-3/
SUMMARY:Twin Hearts Meditation
DESCRIPTION:Experience the transformative power of Twin Hearts Meditation\,
  a practice designed to spread loving-kindness and bless the earth. Led by
  Faena Spa Director Agustina Caminos\, this meditation offers participants
  an opportunity to enhance their well-being through spiritual cleansing. A
 s part of this practice\, participants release positive energy into the wo
 rld and\, in return\, receive peace\, clarity\, and heightened awareness.\
 n\nAbout Twin Hearts Meditation: Created by Master Choa Kok Sui\, this tec
 hnique works as a “spiritual shower\,” cleansing the aura using spirit
 ual energy. By flushing away negative energy and sharpening the mind\, it 
 leaves participants feeling calm\, centered\, and attuned to a higher leve
 l of consciousness.\n\nWhy Attend?\n\n 	Cleanse your aura and reduce emoti
 onal blockages.\n 	Experience calmness and a greater sense of inner stilln
 ess.\n 	Elevate your spiritual awareness and illuminate your path to cosmi
 c consciousness.\n\nWho is Leading? Agustina Caminos is the Wellness Direc
 tor for Faena Group and Spa Director at Faena Hotel Miami Beach. As a cert
 ified Pranic Healing instructor\, therapist\, and spiritual guide\, Agusti
 na brings decades of experience in alternative medicine\, yoga\, and holis
 tic practices. Having grown up in a family of yogis and healers\, her teac
 hings blend ancient wisdom with modern wellness practices.\n\nWhere: Faena
  Hotel\, 3201 Collins Avenue\, Miami Beach\, FL 33140.\n\nParking: Valet p
 arking is available at Faena Hotel\, with a municipal parking lot one bloc
 k north.\n\nWhat to Bring: A refillable water bottle\, a meditation cushio
 n or yoga mat\, and an open heart ready to receive.\n\nTickets: This event
  operates on a pay-what-you-wish model\, with a suggested contribution of 
 $11. Adjust the amount as you see fit.\n\nAbout Modern ŌM: Since 2015\, M
 odern ŌM has been a hub for spiritual wellness\, offering over 20 monthly
  events\, retreats\, and workshops in Miami. We connect entrepreneurs\, cr
 eatives\, and professionals\, fostering a community focused on spiritual g
 rowth and well-being.\n\nCommunity Testimonials: "I love the community\, I
  love the vibe of Modern ŌM!" — Seema\n"I highly recommend this members
 hip—you won't regret it!" — Nadine\n“Modern ŌM truly cares about th
 e conscious evolution of its members.” — Alessandra\n\nJoin us for thi
 s powerful session and be part of a community that supports your spiritual
  journey.\n\nFollow Us: Stay connected via Eventbrite\, Instagram\, TikTok
 \, and Miami Telegram for more updates.\n\nGET TICKETS\n
ATTACH;FMTTYPE=image/jpeg:https://breathemiami.us/wp-content/uploads/2024/
 10/Twin-Hearts-Meditation-1.jpg
CATEGORIES:Wellness Events
LOCATION:Faena Hotel\, 3201 Collins Avenue\, Miami Beach\, FL\, 33140\, Uni
 ted States
X-APPLE-STRUCTURED-LOCATION;VALUE=URI;X-ADDRESS=3201 Collins Avenue\, Miami
  Beach\, FL\, 33140\, United States;X-APPLE-RADIUS=100;X-TITLE=Faena Hotel
 :geo:0,0
END:VEVENT
BEGIN:VTIMEZONE
TZID:America/New_York
X-LIC-LOCATION:America/New_York
BEGIN:STANDARD
DTSTART:20241103T010000
TZOFFSETFROM:-0400
TZOFFSETTO:-0500
TZNAME:EST
END:STANDARD
END:VTIMEZONE
END:VCALENDAR