BEGIN:VCALENDAR
VERSION:2.0
PRODID:-//wp-events-plugin.com//7.2.3.1//EN
TZID:America/New_York
X-WR-TIMEZONE:America/New_York
BEGIN:VEVENT
UID:958@breathemiami.us
DTSTART;TZID=America/New_York:20241027T150000
DTEND;TZID=America/New_York:20241027T160000
DTSTAMP:20241002T172317Z
URL:https://breathemiami.us/events/twin-hearts-meditation-2/
SUMMARY:Twin Hearts Meditation
DESCRIPTION:Led by Agustina Caminos\, the Spa Director at Faena Hotel Miami
  Beach\, the Twin Hearts Meditation is a transformative practice aimed at 
 sending loving-kindness to the Earth. This powerful meditation\, introduce
 d by Master Choa Kok Sui\, focuses on the principle that the energy one em
 its is reflected back\, creating a cycle of positivity.\n\nThe Twin Hearts
  Meditation is a straightforward yet impactful technique designed to achie
 ve cosmic consciousness\, often referred to as "illumination." Through thi
 s practice\, participants cleanse and refresh their aura using spiritual e
 nergy\, resulting in a clearer mind and calmer emotions. It serves as a sp
 iritual shower\, promoting a clean and vibrant aura that fosters tranquili
 ty and heightened awareness.\n\nWho Is Agustina Caminos?\nAgustina Caminos
  is not only the Wellness Director for the Faena Group but also a Pranic H
 ealing instructor and spiritual guide. With a rich background in yoga and 
 alternative medicine\, she brings a wealth of knowledge and experience\, s
 temming from her education at the Institute of Inner Studies in the Philip
 pines. Growing up in a family of yogis\, she has been immersed in various 
 healing modalities from a young age.\n\nEvent Details:\n\n 	Location: Faen
 a Hotel\, 3201 Collins Avenue\, Miami Beach\, FL 33140\n 	Parking: Valet p
 arking is available at the Faena Hotel\, or guests can use the municipal l
 ot located one block north.\n 	What to Bring: Attendees are encouraged to 
 bring a refillable water bottle\, a meditation cushion or yoga mat\, and a
 n open heart.\n\nTickets:\nThe session operates on a pay-what-you-wish bas
 is\, with a suggested contribution of $11. Participants are welcome to adj
 ust this amount according to their means.\n\nAbout Modern ŌM\nSince 2016\
 , Modern ŌM has been connecting communities to exceptional spiritual well
 ness programs. With over 30 events held monthly in Miami\, alongside retre
 ats\, training sessions\, and online meditations through the Modern Medi C
 lub\, Modern ŌM serves as a vital resource for spiritual wellness. It fos
 ters a thriving community of entrepreneurs\, professionals\, and creatives
  dedicated to prioritizing their spiritual well-being.\n\nCommunity Praise
 \nParticipants rave about their experiences:\n\n 	“I loved everything ab
 out the Cushion Crawl. Would definitely do it again!” - Fiorella\n 	“Y
 ou can really tell Modern ŌM truly cares about its community and the cons
 cious evolution of its members. Thank you!” - Alessandra\n 	“An incred
 ible event and one of the best investments in 'Self' ever made.” - Lane\
 n\nJoin this incredible journey inward and connect with a conscious commun
 ity dedicated to spiritual growth and well-being.\n\nFollow Us: Eventbrite
  | Instagram | TikTok | Miami Telegram\n\nGET TICKETS\n
ATTACH;FMTTYPE=image/jpeg:https://breathemiami.us/wp-content/uploads/2024/
 10/Twin-Hearts-Meditation.jpg
CATEGORIES:Wellness Events
LOCATION:Faena Hotel\, 3201 Collins Avenue \, Miami Beach\, Florida\, 33140
 \, FL\, United States
X-APPLE-STRUCTURED-LOCATION;VALUE=URI;X-ADDRESS=3201 Collins Avenue \, Miam
 i Beach\, Florida\, 33140\, FL\, United States;X-APPLE-RADIUS=100;X-TITLE=
 Faena Hotel:geo:0,0
END:VEVENT
BEGIN:VTIMEZONE
TZID:America/New_York
X-LIC-LOCATION:America/New_York
BEGIN:DAYLIGHT
DTSTART:20240310T030000
TZOFFSETFROM:-0500
TZOFFSETTO:-0400
TZNAME:EDT
END:DAYLIGHT
END:VTIMEZONE
END:VCALENDAR