BEGIN:VCALENDAR
VERSION:2.0
PRODID:-//wp-events-plugin.com//7.2.3.1//EN
TZID:America/New_York
X-WR-TIMEZONE:America/New_York
BEGIN:VEVENT
UID:373@breathemiami.us
DTSTART;TZID=America/New_York:20240407T100000
DTEND;TZID=America/New_York:20240407T130000
DTSTAMP:20240308T230612Z
URL:https://breathemiami.us/events/tropical-sculpt-beauty-brunch/
SUMMARY:Tropical Sculpt & Beauty Brunch
DESCRIPTION:\nRejuvenate Your Mind\, Body\, and Spirit at Baresco's Beachsi
 de Self-Care Extravaganza!\nIndulge in a luxurious morning retreat dedicat
 ed to your well-being at Baresco! This immersive experience combines invig
 orating exercise\, delicious brunch\, and pampering treats for a complete 
 self-care journey.\nEmbrace the Beach Breeze with Pilates Sculpt:\n\n\n 	U
 nwind and strengthen with a 50-minute pilates sculpt class led by the tale
 nted Jessica Pagola.\n 	Enjoy the scenic backdrop of the beach as Jessica 
 guides you through a series of exercises designed to build core strength\,
  improve flexibility\, and enhance mobility.\n 	Feel energized and ready f
 or the day ahead as you connect with your body in this tranquil beachside 
 setting.\n\nSavor Delights at Baresco Brunch:\n\n\n 	Treat yourself to a d
 electable brunch at Baresco after your invigorating workout.\n 	Refuel you
 r body and soul with a delicious meal (not included in the ticket price).\
 n 	Connect with fellow wellness enthusiasts and share the joy of self-care
 .\n\nUnwrap a Treasure Trove of Self-Care Essentials:\n\n\n 	Take home a l
 uxurious goodie bag filled with delightful surprises to continue your self
 -care journey long after the event.\n 	Adorn yourself with a beautiful Ver
 ove Crystal Bracelet.\n 	Experience the transformative power of technology
  with a complimentary certificate for one EMSculpt session at Lady Bella's
  Spa.\n 	Embrace the ancient art of henna with a personalized henna tattoo
  designed by a skilled artist on-site.\n\nInvest in Yourself for Only $55:
 \n\n\n 	Your $55 ticket includes:\n\n 	Pilates sculpt class on the beach\n
  	Henna tattoos\n 	Goodie bag with Verove Crystal Bracelet\, EMSculpt sess
 ion certificate\, and more\n\n\n 	Brunch is available at an additional cos
 t.\n\nDon't miss this opportunity to rejuvenate your mind\, body\, and spi
 rit!\nEmbrace a holistic approach to self-care and emerge feeling refreshe
 d\, empowered\, and ready to conquer the day!\n\n\n\n\nBUY TICKETS\n\n
ATTACH;FMTTYPE=image/jpeg:https://breathemiami.us/wp-content/uploads/2024/
 03/https___cdn.evbuc_.com_images_705528289_1744250447983_1_original.jpg
CATEGORIES:Wellness Events
LOCATION:225 N Pompano Beach Blvd\, 225 North Pompano Beach Boulevard \, Po
 mpano Beach\, Florida\, 33062\, United States
X-APPLE-STRUCTURED-LOCATION;VALUE=URI;X-ADDRESS=225 North Pompano Beach Bou
 levard \, Pompano Beach\, Florida\, 33062\, United States;X-APPLE-RADIUS=1
 00;X-TITLE=225 N Pompano Beach Blvd:geo:0,0
END:VEVENT
BEGIN:VTIMEZONE
TZID:America/New_York
X-LIC-LOCATION:America/New_York
BEGIN:DAYLIGHT
DTSTART:20240310T030000
TZOFFSETFROM:-0500
TZOFFSETTO:-0400
TZNAME:EDT
END:DAYLIGHT
END:VTIMEZONE
END:VCALENDAR