BEGIN:VCALENDAR
VERSION:2.0
PRODID:-//wp-events-plugin.com//7.2.3.1//EN
TZID:America/New_York
X-WR-TIMEZONE:America/New_York
BEGIN:VEVENT
UID:857@breathemiami.us
DTSTART;TZID=America/New_York:20241027T180000
DTEND;TZID=America/New_York:20241027T200000
DTSTAMP:20240910T191631Z
URL:https://breathemiami.us/events/trick-or-treat-symphony/
SUMMARY:Trick Or Treat Symphony
DESCRIPTION:Get ready for a spooktacular evening of music and Halloween fun
  with MYO's "Trick or Treat Symphony"—a youth orchestra and choir concer
 t like no other! Join us on Sunday\, October 27\, 2024\, at 6:00 PM at the
  Manuel Artime Theater for a night filled with hauntingly beautiful melodi
 es and festive activities.\n\nThe performance will feature spine-chilling 
 classics from iconic movies such as Harry Potter\, The Nightmare Before Ch
 ristmas\, and many more eerie tunes to set the perfect Halloween atmospher
 e. Guests are encouraged to come dressed in their best costumes\, adding t
 o the night's thrills with a mix of tricks and treats.\n\nThis is an in-pe
 rson event\, and tickets are expected to sell out fast—so don't wait! Se
 cure your spot and prepare for a magical\, spooky night of music and Hallo
 ween spirit. We can’t wait to see you there!\n\nGET TICKETS\n
ATTACH;FMTTYPE=image/jpeg:https://breathemiami.us/wp-content/uploads/2024/
 09/Trick-Or-Treat-Symphony.jpg
CATEGORIES:Things To Do
LOCATION:Manuel Artime Theater\, 900 Southwest 1st Street\, Miami\, Florida
 \, 33130\, FL\, United States
X-APPLE-STRUCTURED-LOCATION;VALUE=URI;X-ADDRESS=900 Southwest 1st Street\, 
 Miami\, Florida\, 33130\, FL\, United States;X-APPLE-RADIUS=100;X-TITLE=Ma
 nuel Artime Theater:geo:0,0
END:VEVENT
BEGIN:VTIMEZONE
TZID:America/New_York
X-LIC-LOCATION:America/New_York
BEGIN:DAYLIGHT
DTSTART:20240310T030000
TZOFFSETFROM:-0500
TZOFFSETTO:-0400
TZNAME:EDT
END:DAYLIGHT
END:VTIMEZONE
END:VCALENDAR