BEGIN:VCALENDAR
VERSION:2.0
PRODID:-//wp-events-plugin.com//7.2.3.1//EN
TZID:America/New_York
X-WR-TIMEZONE:America/New_York
BEGIN:VEVENT
UID:1181@breathemiami.us
DTSTART;TZID=America/New_York:20241115T180000
DTEND;TZID=America/New_York:20241115T220000
DTSTAMP:20241024T053005Z
URL:https://breathemiami.us/events/triangle-park-tree-lighting-ceremony/
SUMMARY:Triangle Park Tree Lighting Ceremony
DESCRIPTION:Celebrate the joy of the holiday season at the City of Hialeah'
 s Annual Tree Lighting Ceremony in Triangle Park on Friday\, November 15. 
 This beloved community event marks the official start of the festive seaso
 n and transforms the park into a dazzling holiday wonderland\, illuminated
  by over 20\,000 sparkling lights that create a magical atmosphere for all
  to enjoy.\n\nFamilies and visitors are invited to revel in the festive sp
 irit with live entertainment\, delicious food vendors\, and special appear
 ances by everyone's favorite holiday characters\, Rudolph and Frosty the S
 nowman. The event promises fun for all ages\, offering an evening filled w
 ith laughter\, music\, and holiday cheer.\n\nThe highlight of the night is
  the much-anticipated arrival of Santa and Mrs. Claus\, who will make a gr
 and entrance aboard a City of Hialeah fire truck\, signaling the official 
 lighting of the magnificent Christmas tree. Children and families will hav
 e the chance to meet Santa\, take photos\, and share their holiday wishes\
 , adding a personal touch to this heartwarming community tradition.\n\nWhe
 ther you're looking to start new holiday traditions or simply soak in the 
 festive ambiance\, the Triangle Park Tree Lighting Ceremony is the perfect
  way to kick off the season in Hialeah. Don’t miss this magical evening\
 , sure to fill your heart with holiday cheer!\n\nGET TICKETS\n
ATTACH;FMTTYPE=image/jpeg:https://breathemiami.us/wp-content/uploads/2024/
 10/Triangle-Park-Tree-Lighting-Ceremony-scaled.jpg
CATEGORIES:Things To Do
LOCATION:Triangle Park 290 Palm Ave\, Hialeah\, Miami\, Florida\, 33010\, F
 L\, United States
X-APPLE-STRUCTURED-LOCATION;VALUE=URI;X-ADDRESS=Hialeah\, Miami\, Florida\,
  33010\, FL\, United States;X-APPLE-RADIUS=100;X-TITLE=Triangle Park 290 P
 alm Ave:geo:0,0
END:VEVENT
BEGIN:VTIMEZONE
TZID:America/New_York
X-LIC-LOCATION:America/New_York
BEGIN:STANDARD
DTSTART:20241103T010000
TZOFFSETFROM:-0400
TZOFFSETTO:-0500
TZNAME:EST
END:STANDARD
END:VTIMEZONE
END:VCALENDAR