BEGIN:VCALENDAR
VERSION:2.0
PRODID:-//wp-events-plugin.com//7.2.3.1//EN
TZID:America/New_York
X-WR-TIMEZONE:America/New_York
BEGIN:VEVENT
UID:1009@breathemiami.us
DTSTART;TZID=America/New_York:20241102T100000
DTEND;TZID=America/New_York:20241102T110000
DTSTAMP:20241006T151236Z
URL:https://breathemiami.us/events/trap-yoga-mimosas/
SUMMARY:Trap Yoga & Mimosas
DESCRIPTION:&nbsp\;\n\n 	Tickets: $15 per person (includes yoga session)\n 
 	Brunch: $15 Chicken and French Toast (includes one free mimosa)\n 	Brunch
  will take place after the yoga session.\n 	No Refunds are available for t
 his event.\n\nEvent Highlights: Participants will enjoy a 60-minute yoga s
 ession designed to be accessible and enjoyable for all levels. The session
  will guide you through a carefully crafted yoga sequence that encourages 
 the connection of mind\, body\, and soul\, leaving you refreshed and energ
 ized. With step-by-step demonstrations from the instructor\, attendees can
  easily follow along\, enhancing their practice. Once the yoga session con
 cludes\, participants are invited to relax and indulge in a delicious brun
 ch.\n\nMeet the Instructor: Caress\, a.k.a. Sheabutter Yoga Caress is a vi
 brant yoga instructor known for her fun-loving and dynamic teaching style\
 , which often includes a playful "twerk break" and a passion for good drin
 ks. As a military brat from Central Texas\, she has shared her love of yog
 a in cities like Austin\, San Antonio\, and Houston. Certified in Hatha an
 d Yin yoga\, she also teaches restorative\, vinyasa\, and hatha flow style
 s to students ranging in age from 14 to 79. When she’s not leading a yog
 a class\, you’ll likely find her on the go\, embracing life’s adventur
 es.\n\nAdditional Information:\n\n 	The event will be held indoors.\n 	Don
 ’t forget to bring your yoga mat!\n 	Follow Caress on Instagram (@Sheabu
 tter_yoga) for updates on future events.\n\nJoin us for a morning of yoga\
 , mimosas\, and delicious brunch—where relaxation meets fun!\n\nGET TICK
 ETS\n
ATTACH;FMTTYPE=image/jpeg:https://breathemiami.us/wp-content/uploads/2024/
 10/Trap-Yoga-Mimosas.jpg
CATEGORIES:Yoga Events
LOCATION:7333 W Sam Houston Pkwy S\, 7333 West Sam Houston Parkway South Ho
 uston\, TX 77036 United States\, Houston\, Texas\, 77072\, TX\, United Sta
 tes
X-APPLE-STRUCTURED-LOCATION;VALUE=URI;X-ADDRESS=7333 West Sam Houston Parkw
 ay South Houston\, TX 77036 United States\, Houston\, Texas\, 77072\, TX\,
  United States;X-APPLE-RADIUS=100;X-TITLE=7333 W Sam Houston Pkwy S:geo:0,
 0
END:VEVENT
BEGIN:VTIMEZONE
TZID:America/New_York
X-LIC-LOCATION:America/New_York
BEGIN:DAYLIGHT
DTSTART:20240310T030000
TZOFFSETFROM:-0500
TZOFFSETTO:-0400
TZNAME:EDT
END:DAYLIGHT
END:VTIMEZONE
END:VCALENDAR