BEGIN:VCALENDAR
VERSION:2.0
PRODID:-//wp-events-plugin.com//7.2.3.1//EN
TZID:America/New_York
X-WR-TIMEZONE:America/New_York
BEGIN:VEVENT
UID:41@breathemiami.us
DTSTART;TZID=America/New_York:20230909T130000
DTEND;TZID=America/New_York:20230909T150000
DTSTAMP:20240908T161801Z
URL:https://breathemiami.us/events/transformational-breathwork-experience/
SUMMARY:Transformational Breathwork Experience
DESCRIPTION:Immerse yourself in this profound breathwork practice that allo
 ws for the release of blocked emotions and energy.\nxperience the power of
  transformational breathwork and unlock your potential for healing\, relax
 ation\, and self-discovery. Immerse yourself in this profound practice tha
 t allows for the release of blocked emotions and energy\, enabling profoun
 d inner shifts. What to expect: Education on breathwork and why the modali
 ty is so powerful Guided transformational breathwork experience Release of
  stress and anxiety Increased clarity and focus Emotional healing and rele
 ase Renewed sense of well-being Integration Group Discussion\n\n\nGET TICK
 ETS\n\n\nWho:\nVanessa Thomas Normil is a therapist\, Certified Clinical H
 ypnotherapist\, and founder of Journeys Aligned Hypnosis. She works with w
 omen on a healing journey after heartbreak\, and specializes in helping wo
 men navigate the unique challenges of pregnancy after loss so they can rec
 laim trust\, peace\, and joy along their pregnancy and motherhood journey.
 \n\nJoe Garcia\, CCHt\, MBA\, is the founder of Viva Hypnotherapy and Cert
 ified Clinical Hypnotherapist with over 500 hours of training from the Ins
 titute of Interpersonal Hypnotherapy. He is a member of the International 
 Association of Interpersonal Hypnotherapists\, a governing body that striv
 es to uphold the highest standards in the field of hypnotherapy. Joe is sk
 illed in diverse modalities such as Neuro-Linguistic Programming (NLP)\, P
 arts Therapy\, Eye Movement Therapy\, Breathwork\, Age Regression\, Past L
 ife Regression\, Timeline Therapy\, Transpersonal Hypnotherapy\, and Repro
 gramming the Subconscious Mind for Success.\n\nBefore becoming a Clinical 
 Hypnotherapist\, Joe spent over 15 years immersed in the corporate world a
 s a business development expert. Inspired by his personal healing with hyp
 nosis and passion to make a meaningful impact on the world\, Joe transitio
 ned into the field of hypnotherapy with the mission of helping his clients
  reclaim their power to create the life they desire. Joe specializes in he
 lping his clients clear limiting beliefs\, releasing past trauma\, and ide
 ntifying root causes to the issues they may be facing in their lives. Joe 
 believes we all have the innate capacity for healing and transformation\, 
 by utilizing the transformative tool of hypnotherapy he helps his clients 
 create lasting change in their lives.\nParking:\nThere is metered parking 
 alongside the streets of Upper Buena Vista on NE 2nd Avenue as well as NE 
 50th Terrace. Do NOT park in a residential zone - they do tow.\nBring:\nA 
 yoga mat\, comfortable clothing\, a refillable water bottle\, and an open 
 heart.\nTickets:\nRegistration is Early Bird or General Admission\nExclusi
 ve Rates for Members:\nClick to explore the benefits and join a plan.\n\n1
 0% off this session with ŌMIE PLAN ($49 per year)\n10% off this session w
 ith PRACTICE PLAN ($99 per month)\nThis session is included with ACCESS PL
 AN ($199 per month)\nMindful Miles™️:\nGet rewarded for your spiritual
  practice. All Members are enrolled into our “frequent flier” program 
 for our Miami events.\n\n 	Every 10MM you earn\, receive a reward to celeb
 rate your practice\n 	Every 25MM you earn\, receive a MM status upgrade\, 
 which comes with valuable perks\n\nOnline Resources:\nIf you cannot join u
 s in person\, we have the following online resources available.\n\n 	Moder
 n Medi Club - a friendly donation-based online meditation studio with clas
 ses daily at 8am\, 10am\, and 8pm. This online studio is FREE to join and 
 can be joined separately from Miami plans.\n 	Cushion Crawl On Demand - 50
 0 videos that were recorded over a period of 3 years by 120+ world-class f
 acilitators. Access to this Content Library is given with all Miami plans.
 \n\nFollow us: Instagram | TikTok | Miami Telegram\nABOUT MODERN ŌM\nMode
 rn ŌM has been connecting community to world-class spiritual wellness pr
 ograms since 2016. Our offerings include 30+ Miami event monthly\, retreat
 s\, trainings\, online meditations via the Modern Medi Club\, and branded 
 merchandise.\n\nConsider us your resource for spiritual wellness. We suppo
 rt an ever-evolving community of entrepreneurs\, professionals\, and creat
 ives that prioritize their spiritual well-being. Join us in Miami and beyo
 nd.\nCOMMUNITY PRAISE\n"I love the community\, I love the vibe of Modern 
 ŌM!!" - Seema\n\n"I highly recommend this membership - you will not regre
 t it!" - Nadine\n\n“You can really tell Modern ŌM truly truly cares abo
 ut its community and the conscious evolution of its members. Thank you!”
  - Alessandra\n\n\n\n
ATTACH;FMTTYPE=image/jpeg:https://breathemiami.us/wp-content/uploads/2023/
 09/transformational-breathwork-experience-featured.jpeg
CATEGORIES:Mindfulness Events,Things To Do,Wellness Events,Yoga Events
LOCATION:Modern ŌM Bungalow\, 5020 Northeast 2nd Avenue\, Miami\, FL\, 331
 37\, United States
X-APPLE-STRUCTURED-LOCATION;VALUE=URI;X-ADDRESS=5020 Northeast 2nd Avenue\,
  Miami\, FL\, 33137\, United States;X-APPLE-RADIUS=100;X-TITLE=Modern ŌM 
 Bungalow:geo:0,0
END:VEVENT
BEGIN:VTIMEZONE
TZID:America/New_York
X-LIC-LOCATION:America/New_York
BEGIN:DAYLIGHT
DTSTART:20230312T030000
TZOFFSETFROM:-0500
TZOFFSETTO:-0400
TZNAME:EDT
END:DAYLIGHT
END:VTIMEZONE
END:VCALENDAR