BEGIN:VCALENDAR
VERSION:2.0
PRODID:-//wp-events-plugin.com//7.2.3.1//EN
TZID:America/New_York
X-WR-TIMEZONE:America/New_York
BEGIN:VEVENT
UID:150@breathemiami.us
DTSTART;TZID=America/New_York:20230910T100000
DTEND;TZID=America/New_York:20231119T170000
DTSTAMP:20231020T012851Z
URL:https://breathemiami.us/events/tinez-farms-fall-festival/
SUMMARY:Harvesting Fun: Tinez Farms Fall Festival
DESCRIPTION:Tinez Farms Fall Festival\nRight before you reach the busy Redl
 ands\, a farm called Tinez Farms stands out. It's a small\, family-owned p
 lace run by Jessica and Ruben Martinez. They're from Miami\, and they noti
 ced that there weren't many local\, organic farms around. Even though they
  didn't know much about farming\, they decided to give it a try. They had 
 one big goal: to make a better future for their family and their hometown.
 \n\nAt Tinez Farms\, they don't just grow great food\; they also throw a y
 early festival to celebrate farming\, family\, and community.\nEvent Detai
 ls:\nDate: September 10 – November 19\, 2023\n\nTime:\n\n 	Tuesday - Fri
 day: 10:00 am-5:00 pm\n 	Saturday - Sunday 10:00 am-6:00 pm\n\nLocation: 1
 6405 SW 177th Ave\, Miami\, FL 33187\, United States\n\nContact: 786-816-3
 474\n\nWebsite: https://tinezfarms.com/\n\nTicket Options:\n\n 	Adult Admi
 ssion: $10\n 	Child (Ages 2-12) Admission: $8\n\nClick for Tickets\nHighli
 ghts of the Tinez Farms Fall Festival\nBelow are the exciting highlights 
 of this fall festival.\n\n\n\n\n\n\n\n\nYummy Farm Food:\nAt the festival\
 , you can indulge in a wide variety of delicious vegan dishes crafted from
  the farm's own freshly harvested vegetables. These offerings are not just
  delicious but also entirely organic\, mirroring the farm's sustainable an
 d eco-friendly farming practices. From savoury vegetable stir-fries to mou
 thwatering fruit pies\, the festival menu showcases the farm's commitment 
 to providing the freshest\, most wholesome food.\nLearn about Farming:\nIm
 merse yourself in the world of agriculture with hands-on workshops led by 
 the Martinez family\, who are passionate about eco-conscious farming. Thro
 ugh these workshops\, you'll gain insights into sustainable farming techni
 ques\, including organic cultivation methods and the importance of reducin
 g harmful chemicals in farming. Discover the significance of supporting lo
 cal food producers and how this helps strengthen the community and the env
 ironment.\nFun Zone for Kids:\nChildren are in for a treat with their very
  own dedicated area\, brimming with exciting activities. From lively games
  and face-painting stations to interactive and educational displays\, this
  kids' zone promises hours of fun and laughter. Young ones can explore and
  learn in an environment tailored just for them\, creating cherished memor
 ies with their peers.\nPick Your Own:\nImmerse yourself in the world of fa
 rming by putting on some overalls and heading out into the fields to perso
 nally harvest your own fruits and vegetables. This genuine farming adventu
 re enables you to establish a deeper connection with the land and cultivat
 e a greater understanding of the origins of your food. Whether you're hand
 picking ripe apples from the orchard or carefully choosing the finest toma
 toes straight from the vine\, you'll depart with a profound sense of achie
 vement and a basket brimming with freshly harvested produce to bring back 
 with you.\nConclusion\nTinez Farms Fall Festival is a heartwarming celebra
 tion of farming\, family\, and community in Miami\, Florida. Founded by th
 e Martinez family\, this small\, family-owned organic farm not only provid
 es delectable\, sustainable farm-to-table food but also offers immersive e
 xperiences like hands-on workshops\, live music\, and a dedicated fun zone
  for kids. The festival embodies their commitment to eco-conscious farming
  and local community support. Whether you're indulging in organic farm-fre
 sh cuisine\, picking your own produce\, or enjoying live entertainment\, T
 inez Farms Fall Festival promises a memorable and educational experience f
 or all ages\, while supporting a vision of a better future for both their 
 family and the local community. Don't miss this opportunity to connect wit
 h the land and appreciate the origins of your food while having a fantasti
 c time.\n\n\n\n\n\n\n\n\n
ATTACH;FMTTYPE=image/jpeg:https://breathemiami.us/wp-content/uploads/2023/
 10/261102151_4669664216486135_3123760212652925347_n-1536x1024-1.jpg
CATEGORIES:Things To Do
LOCATION:tinez farms\, 16405 SW 177th Ave\, Miami\, Florida \, 33187\, Unit
 ed States
X-APPLE-STRUCTURED-LOCATION;VALUE=URI;X-ADDRESS=16405 SW 177th Ave\, Miami\
 , Florida \, 33187\, United States;X-APPLE-RADIUS=100;X-TITLE=tinez farms:
 geo:0,0
END:VEVENT
BEGIN:VTIMEZONE
TZID:America/New_York
X-LIC-LOCATION:America/New_York
BEGIN:DAYLIGHT
DTSTART:20230312T030000
TZOFFSETFROM:-0500
TZOFFSETTO:-0400
TZNAME:EDT
END:DAYLIGHT
BEGIN:STANDARD
DTSTART:20231105T010000
TZOFFSETFROM:-0400
TZOFFSETTO:-0500
TZNAME:EST
END:STANDARD
END:VTIMEZONE
END:VCALENDAR