BEGIN:VCALENDAR
VERSION:2.0
PRODID:-//wp-events-plugin.com//7.2.3.1//EN
TZID:America/New_York
X-WR-TIMEZONE:America/New_York
BEGIN:VEVENT
UID:374@breathemiami.us
DTSTART;TZID=America/New_York:20240623T070000
DTEND;TZID=America/New_York:20240623T170000
DTSTAMP:20240308T233640Z
URL:https://breathemiami.us/events/thread-lift-training-i-ii-miami/
SUMMARY:Thread Lift Training I & II - Miami / Miami Beach\, FL
DESCRIPTION:\nLevel Up Your Aesthetic Practice with PDO Thread Lift Trainin
 g!\nUnlock the power of PDO Thread Lifts\, the latest non-surgical solutio
 n for facial rejuvenation! This innovative technique is rapidly gaining po
 pularity\, offering patients a safe and effective alternative to tradition
 al surgery.\nWhy Choose PDO Threads?\n\n\n 	Minimally Invasive: Avoid the 
 risks and downtime associated with surgery.\n 	Versatile Procedure: Treat 
 a variety of concerns\, including lifting brows\, tightening skin\, and en
 hancing facial contours.\n 	Long-Lasting Results: Enjoy youthful results f
 or up to 18 months.\n 	High Patient Demand: Cater to the growing demand fo
 r non-surgical aesthetic treatments\, especially among millennials.\n\nEmp
 ire Medical Training: Your Path to PDO Thread Lift Mastery\nJoin Empire Me
 dical Training\, a leader in aesthetic medicine education\, and become a c
 ertified PDO Thread Lift practitioner! Our comprehensive training program 
 caters to a range of healthcare professionals\, including physicians\, nur
 ses\, and dentists.\nWhat You'll Learn:\n\n\n 	Master the "Cat's Eye Brow 
 Lift" and other advanced techniques.\n 	Expand your service menu: Offer pa
 tients a broader range of aesthetic procedures.\n 	Become a sought-after p
 ractitioner: Stay ahead of the curve and attract new patients.\n\nTraining
  Designed for Your Success:\n\n\n 	Flexible Learning Options: Choose from 
 beginner to advanced training modules\, including online and hands-on elem
 ents.\n 	Expert Instruction: Gain knowledge from experienced professionals
  in a supportive learning environment.\n 	Comprehensive Pre-Requisites: Pr
 epare for hands-on training with video tutorials and detailed educational 
 materials.\n 	Safety First: All training adheres to strict COVID-19 protoc
 ols and industry standards.\n\nInvest in Your Future:\n\n\n 	Boost your pr
 actice revenue: Expand your offerings with this in-demand procedure.\n 	El
 evate your skillset: Stay current with the latest advancements in aestheti
 c medicine.\n 	Empower your patients: Offer them safe and effective soluti
 ons for achieving their cosmetic goals.\n\nReady to Take the Next Step?\nC
 ontact Empire Medical Training today!\n\n\n 	Call us at 866-261-5164.\n 	V
 isit our website: https://www.empiremedicaltraining.com/aesthetic-workshop
 s/pdo-thread-lift-training-level-II/\n\nEmbrace the future of facial rejuv
 enation and set your practice apart!\n\n\n\n\nBUY COURSE\n\n
ATTACH;FMTTYPE=image/jpeg:https://breathemiami.us/wp-content/uploads/2024/
 03/https___cdn.evbuc_.com_images_460008389_82610134181_1_original.jpg
CATEGORIES:Wellness Events
LOCATION:Fontainebleau Miami Beach\, 4441 Collins Avenue \, Miami Beach\, F
 lorida\, 33140 \, United States
X-APPLE-STRUCTURED-LOCATION;VALUE=URI;X-ADDRESS=4441 Collins Avenue \, Miam
 i Beach\, Florida\, 33140 \, United States;X-APPLE-RADIUS=100;X-TITLE=Font
 ainebleau Miami Beach:geo:0,0
END:VEVENT
BEGIN:VTIMEZONE
TZID:America/New_York
X-LIC-LOCATION:America/New_York
BEGIN:DAYLIGHT
DTSTART:20240310T030000
TZOFFSETFROM:-0500
TZOFFSETTO:-0400
TZNAME:EDT
END:DAYLIGHT
END:VTIMEZONE
END:VCALENDAR