BEGIN:VCALENDAR
VERSION:2.0
PRODID:-//wp-events-plugin.com//7.2.3.1//EN
TZID:America/New_York
X-WR-TIMEZONE:America/New_York
BEGIN:VEVENT
UID:1241@breathemiami.us
DTSTART;TZID=America/New_York:20250223T093000
DTEND;TZID=America/New_York:20250223T104500
DTSTAMP:20250211T165043Z
URL:https://breathemiami.us/events/the-yoga-light-experience/
SUMMARY:The Yoga Light Experience
DESCRIPTION:An Immersive Journey of Movement\, Light\, and Sound\nStep into
  The Yoga Light Experience\, an extraordinary fusion of yoga\, immersive v
 isuals\, and calming soundscapes designed to elevate the mind\, body\, and
  spirit. Hosted by Immersive Miami at ARTXSPACE\, this unique session tran
 sforms traditional yoga practice into a multi-sensory experience\, where m
 ovement synchronizes with dynamic light and sound to cultivate deep relaxa
 tion and self-discovery.\nWhat to Expect\n🧘 Guided Yoga Session: Led by
  the esteemed April May Yoga\, this practice welcomes participants of all 
 levels\, ensuring an inclusive and rejuvenating experience.\n🎨 Immersiv
 e Visuals: Breathtaking digital projections create a mesmerizing atmospher
 e\, enhancing focus and inner connection.\n🎶 Harmonic Soundscapes: A cu
 rated blend of soothing frequencies and meditative tones deepens the journ
 ey\, promoting tranquility and balance.\nEvent Details\n📅 Date: Februar
 y 23\, 2025\n⏰ Time: 9:30 AM (Doors open at 9:15 AM)\n📍 Location: ART
 XSPACE (Entrance on 28th Street)\n🚗 Parking: Street-paid parking availa
 ble\n🧘‍♀️ What to Bring: A yoga mat and water for hydration\n\nDi
 scover the perfect harmony of movement\, light\, and serenity in this tran
 sformative yoga experience. Whether you are a seasoned yogi or new to the 
 practice\, The Yoga Light Experience invites you to step beyond the ordina
 ry and embrace a deeper state of mindfulness.\n\nReserve your spot and ill
 uminate your practice.\n\nGET TICKETS\n
ATTACH;FMTTYPE=image/jpeg:https://breathemiami.us/wp-content/uploads/2025/
 02/The-Yoga-Light-Experience.jpeg
CATEGORIES:Yoga Events
LOCATION:311 NW 28th St\, 311 Northwest 28th Street\, Suite 21 Miami\, FL\,
  33127\, FL\, United States
X-APPLE-STRUCTURED-LOCATION;VALUE=URI;X-ADDRESS=311 Northwest 28th Street\,
  Suite 21 Miami\, FL\, 33127\, FL\, United States;X-APPLE-RADIUS=100;X-TIT
 LE=311 NW 28th St:geo:0,0
END:VEVENT
BEGIN:VTIMEZONE
TZID:America/New_York
X-LIC-LOCATION:America/New_York
BEGIN:STANDARD
DTSTART:20241103T010000
TZOFFSETFROM:-0400
TZOFFSETTO:-0500
TZNAME:EST
END:STANDARD
END:VTIMEZONE
END:VCALENDAR