BEGIN:VCALENDAR
VERSION:2.0
PRODID:-//wp-events-plugin.com//7.2.3.1//EN
TZID:America/New_York
X-WR-TIMEZONE:America/New_York
BEGIN:VEVENT
UID:296@breathemiami.us
DTSTART;TZID=America/New_York:20240107T133000
DTEND;TZID=America/New_York:20240107T163000
DTSTAMP:20231227T195503Z
URL:https://breathemiami.us/events/the-wellness-workshop/
SUMMARY:The Wellness Workshop
DESCRIPTION:Event Information:\n\n\n\n\n\n\n\n\n\n\n\n\n\nEmbark on an enri
 ching journey at The Wellness Workshop where thought-provoking questions p
 ave the way for introspection\, healing conversations nurture the soul\, a
 nd genuine connections flourish. This isn't just an event\; it's a careful
 ly crafted experience that seamlessly blends meaningful interactions with 
 an undercurrent of fun. Join us in creating memories that resonate\, explo
 ring the depths of thought\, and forging connections that go beyond the su
 rface. It's more than an event—it's a space where laughter and reflectio
 n coexist\, offering a holistic and transformative encounter.\n\n\n\n\n\n\
 n\n\n\n\n\n\n\nDate and Time:Sunday\, January 7\, 2024 · 1:30 - 4:30pm ES
 T\n\nAbout this event:\n\n 	Welcome to The Wellness Workshop—an immersiv
 e experience designed to provoke thought\, foster healing conversations\, 
 create genuine connections\, and infuse an overall sense of fun. Hosted by
  The Healing Series\, this workshop is not just an event\; it's a journey 
 toward well-being and authentic connections.\n\nTotal Duration: 3 hour\n\n
 Ticket Information:\n\n 	Secure your spot for this transformative workshop
 . Contact the organizer for refund requests\, and keep in mind that Eventb
 rite's fee is nonrefundable.\n 	Access your ticket conveniently through a 
 Mobile eTicket.\n\n\nGET TICKETS\n\n\nWorkout Session Details:\n\n 	Immers
 e yourself in a blend of social activities\, group discussions\, and genui
 ne vibes. The workshop will feature:\n\n 	Laughter-filled moments\n 	Inter
 active journaling\n 	Group discussions on various topics\n 	Appetizers to 
 indulge in\n\n\n\nEssentials to Bring:\n\n 	An open mind and heart ready f
 or exploration and connection\n\nParking Options:\n\n 	Venue Address: 3145
  Jefferson Street Suite 1\, Philadelphia\, PA 19121.\n 	Plan your transpor
 tation and parking arrangements for a stress-free arrival.\n
ATTACH;FMTTYPE=image/jpeg:https://breathemiami.us/wp-content/uploads/2023/
 12/https___cdn.evbuc_.com_images_656464449_17377042743_1_original.jpg
CATEGORIES:Wellness Events,Yoga Events
LOCATION:3145 Jefferson St\, 3145 Jefferson Street Suite 1 Philadelphia\, \
 , Philadelphai\, United States\,  19121 \, PA\, United States
X-APPLE-STRUCTURED-LOCATION;VALUE=URI;X-ADDRESS=3145 Jefferson Street Suite
  1 Philadelphia\, \, Philadelphai\, United States\,  19121 \, PA\, United 
 States;X-APPLE-RADIUS=100;X-TITLE=3145 Jefferson St:geo:0,0
END:VEVENT
BEGIN:VTIMEZONE
TZID:America/New_York
X-LIC-LOCATION:America/New_York
BEGIN:STANDARD
DTSTART:20231105T010000
TZOFFSETFROM:-0400
TZOFFSETTO:-0500
TZNAME:EST
END:STANDARD
END:VTIMEZONE
END:VCALENDAR