BEGIN:VCALENDAR
VERSION:2.0
PRODID:-//wp-events-plugin.com//7.2.3.1//EN
TZID:America/New_York
X-WR-TIMEZONE:America/New_York
BEGIN:VEVENT
UID:185@breathemiami.us
DTSTART;TZID=America/New_York:20231207T160000
DTEND;TZID=America/New_York:20231208T190000
DTSTAMP:20240908T161252Z
URL:https://breathemiami.us/events/the-wellness-oasis-miami-art-week/
SUMMARY:The Wellness Oasis - Miami Art Week
DESCRIPTION:An exclusive two-day wellness event is being held on Thursday\,
  December 7th\, and Friday\, December 8th\, featuring world-renowned exper
 ts like Dan Buettner\, Dr. Deepak Chopra\, Devi Brown\, Case Kenny\, Juliu
 s Thomas\, Jillian Turecki\, and Melissa Wood-Tepperberg. This immersive e
 xperience\, timed with Miami Art Week\, offers a diverse array of activiti
 es including breathwork\, meditation\, mindfulness workshops\, movement ex
 periences\, and inspiring conversations aimed at enhancing mental health a
 nd overall well-being.\n\nThe event will also support charitable causes\, 
 with a portion of the proceeds benefiting the Kevin Love Fund for its ment
 al health curriculum in Florida schools\, and The Chopra Foundation for me
 ntal well-being and peace initiatives.\n\nAttendees will have access to Th
 e Standard Spa\, Miami Beach's hydrotherapy amenities on the same day\, in
 cluding the Turkish Hammam\, Bayside Infinity Pool\, Arctic Plunge\, Hemlo
 ck Sauna\, and more. The Wellness Oasis is designed to be an intimate and 
 personalized experience\, with limited attendance\, refreshments\, and sch
 eduled breaks between sessions.\n\nDr. Deepak Chopra\nGlobal Well-being Ic
 on\, Author and Founder of The Chopra Foundation\n\nDevi Brown\nWell-being
  Expert\, Author\, Corporate Wellness Advisor and Host of the Podcast\, De
 eply Well\n\nDan Buettner\nFounder of Blue Zones\, National Geographic Fel
 low\, Award-Winning Journalist Producer\, and Author\n\nCase Kenny\nAuthor
 \, Mindfulness Expert\, Host &amp\; Founder of the Podcast\, New Mindset\,
  Who Dis\n\nJulius Thomas\nProfessor of Neuroscience\, Speaker\, Performan
 ce Coach\, Academic Researcher and Former NFL Pro-Bowler\n\nJillian Tureck
 i\nCertified Relationship Coach\, Teacher\, Author\, and Host of the Podca
 st\, Jillian on Love\n\nMelissa Wood-Tepperberg\nMotivational Speaker\, Me
 ditation Teacher\, Certified Yoga &amp\; Pilates Instructor\, Founder of M
 elissa Wood Health and Host of the Podcast\, Move with Heart\n\n\n\nDay\nT
 ime\nSpeaker\nEvent\n\n\n\n\nThurs.\n4-5PM\nDevi Brown\nHow to Grieve and 
 Focus on Wellness in a Chaotic World\, Followed by a Breathwork Experience
 \n\n\nThurs.\n5-6PM\nDr. Deepak Chopra\nThe Future of Well-being\, Followe
 d by a Guided Sunset Meditation with Special Guest Moderator\, Gabriella W
 right\n\n\nThurs.\n6-7PM\nDan Buettner\nLiving to 100: Secrets of the Blue
  Zones with Special Guest Moderator\, Mona Vand\n\n\nFri.\n9:30-10:30AM\nJ
 illian Turecki\nHow to Love Yourself and Raise Your Self-Esteem\n\n\nFri.\
 n10:30-11:30AM\nJulius Thomas\nHow to Optimize Brain Health with Special G
 uest Dan Freed\, Founder &amp\; CEO of Thesis\n\n\nFri.\n11:30AM-12:30PM\n
 Case Kenny\nVulnerability as a Lifestyle: The Power of Guided Journaling\n
 \n\nFri.\n1-2PM\nMelissa Wood-Tepperberg\nA 30-Minute Workout Using Your O
 wn Body Weight\, Followed by a Meditation and Motivational Experience\n\n\
 n\n&nbsp\;\n\n&nbsp\;\n\nGET TICKETS\n\n&nbsp\;
ATTACH;FMTTYPE=image/jpeg:https://breathemiami.us/wp-content/uploads/2023/
 11/cropped-miami-art-week-scaled-1.jpeg
CATEGORIES:Mindfulness Events,Things To Do
LOCATION:Bayside Docks at The Standard Spa\, Miami Beach 40 Island Avenue \
 , Miami\, Florida\, 33139\, United States
X-APPLE-STRUCTURED-LOCATION;VALUE=URI;X-ADDRESS=Miami Beach 40 Island Avenu
 e \, Miami\, Florida\, 33139\, United States;X-APPLE-RADIUS=100;X-TITLE=Ba
 yside Docks at The Standard Spa:geo:0,0
END:VEVENT
BEGIN:VTIMEZONE
TZID:America/New_York
X-LIC-LOCATION:America/New_York
BEGIN:STANDARD
DTSTART:20231105T010000
TZOFFSETFROM:-0400
TZOFFSETTO:-0500
TZNAME:EST
END:STANDARD
END:VTIMEZONE
END:VCALENDAR