BEGIN:VCALENDAR
VERSION:2.0
PRODID:-//wp-events-plugin.com//7.2.3.1//EN
TZID:America/New_York
X-WR-TIMEZONE:America/New_York
BEGIN:VEVENT
UID:1122@breathemiami.us
DTSTART;TZID=America/New_York:20241031T200000
DTEND;TZID=America/New_York:20241101T000000
DTSTAMP:20241020T070650Z
URL:https://breathemiami.us/events/the-veil-masquerade/
SUMMARY:"The Veil" Masquerade
DESCRIPTION:"The Veil" Masquerade is a mystical\, ceremonial event held on 
 the sacred night of October 31st at the Scottish Rite Masonic Temple\, whe
 re the boundary between our world and the spiritual realm becomes its thin
 nest. Rooted in ancient Celtic Samhain traditions\, this masquerade honors
  ancestors\, offering protection from malevolent spirits while celebrating
  the spiritual connection with the afterlife.\n\nSamhain\, celebrated as t
 he end of the harvest season and the dawn of winter\, was believed to blur
  the line between the living and the dead\, with spirits walking among us.
  In modern times\, this tradition has evolved into Halloween\, but "The Ve
 il" draws on its deeper\, sacred meaning. The ceremony allows participants
  to step into this realm through a night of spiritual connection\, masked 
 symbolism\, and enchanting performances.\n\nParticipants at "The Veil" wil
 l engage in a candlelight ceremony to honor ancestors and protect their en
 ergies. The temple will serve as a sacred space where you can leave offeri
 ngs or light candles for those who have passed\, paying homage to loved on
 es who have transitioned to the afterlife. The masks worn during this cele
 bration symbolize the everyday “costumes” of flesh concealing the divi
 ne essence within each of us.\n\nMusically\, "The Veil" will feature an ec
 lectic mix of live classical orchestral performances\, organ and piano pie
 ces\, and a DJ set. These musical acts will guide attendees through an oth
 erworldly journey of dance and reflection\, elevating the spiritual energy
  as the night progresses.\n\nSchedule:\n\n 	8:00 pm: Doors Open\n 	8:30 pm
 : Opening Ceremony\n 	9:00 pm: The Veiled Classical Orchestra &amp\; Candl
 elight Ceremony\n 	9:15 pm: DJ Kaheal &amp\; The Veiled Classical Orchestr
 a\n 	11:00 pm: Integration Circle\n\nIn the Temple of Remembrance\, guests
  can light candles for their ancestors\, bring photos or offerings in memo
 ry of those who have passed\, and experience a personal connection to the 
 spiritual realm. Upon entering the temple\, masks are mandatory\, and Vene
 tian masks will be available for those who need one\, though self-chosen m
 asks for self-expression are encouraged.\n\nThe night will be a profound e
 xperience of magic\, mysticism\, and music—a celebration of life\, death
 \, and the eternal spirit that binds us all.\n\nGET TICKETS\n
ATTACH;FMTTYPE=image/jpeg:https://breathemiami.us/wp-content/uploads/2024/
 10/The-Veil-Masquerade.jpg
CATEGORIES:Wellness Events
LOCATION:Scottish Rite Temple\, 471 Northwest 3rd Street Miami\, Miami\, Fl
 orida\, 33128\,  FL \, United States
X-APPLE-STRUCTURED-LOCATION;VALUE=URI;X-ADDRESS=471 Northwest 3rd Street Mi
 ami\, Miami\, Florida\, 33128\,  FL \, United States;X-APPLE-RADIUS=100;X-
 TITLE=Scottish Rite Temple:geo:0,0
END:VEVENT
BEGIN:VTIMEZONE
TZID:America/New_York
X-LIC-LOCATION:America/New_York
BEGIN:DAYLIGHT
DTSTART:20240310T030000
TZOFFSETFROM:-0500
TZOFFSETTO:-0400
TZNAME:EDT
END:DAYLIGHT
END:VTIMEZONE
END:VCALENDAR