BEGIN:VCALENDAR
VERSION:2.0
PRODID:-//wp-events-plugin.com//7.2.3.1//EN
TZID:America/New_York
X-WR-TIMEZONE:America/New_York
BEGIN:VEVENT
UID:619@breathemiami.us
DTSTART;TZID=America/New_York:20240713T120000
DTEND;TZID=America/New_York:20240713T220000
DTSTAMP:20240706T101658Z
URL:https://breathemiami.us/events/the-ultimate-seafood-experience/
SUMMARY:The Ultimate Seafood Experience
DESCRIPTION:Prepare for a day brimming with vibrant energy\, delectable sea
 food\, and refreshing fresh juices at The Ultimate Seafood Experience. Thi
 s event promises a perfect blend of good vibes\, fantastic food\, and upli
 fting energy. Gather your friends and family and join us for an unforgetta
 ble celebration.\n\nEvent Highlights:\n\n 	Culinary Delights: Savor an arr
 ay of mouthwatering seafood dishes crafted by our talented vendors. From s
 ucculent shrimp to delectable crab\, there's something to satisfy every se
 afood lover's palate.\n 	Refreshing Beverages: Quench your thirst with our
  assortment of fresh juices\, perfectly complementing the rich flavors of 
 the seafood.\n 	Live DJ: Groove to the beats of our live DJ\, setting the 
 perfect ambiance for a day of fun and relaxation.\n 	Games Galore: Engage 
 in exciting games like dominoes and ludi\, or try your hand at other fun a
 ctivities we have lined up. There's something for everyone to enjoy!\n 	Co
 mmunity Spirit: Experience the joy of coming together as a community\, sha
 ring laughter\, good food\, and memorable moments.\n\nJoin Us:\n\nThis eve
 nt is all about celebrating the good things in life — delicious food\, g
 reat company\, and a lively atmosphere. Whether you're a seafood aficionad
 o or just looking for a fun day out\, The Ultimate Seafood Experience is t
 he place to be. We look forward to welcoming you and creating unforgettabl
 e memories together. See you there!\n\nGET TICKETS\n
ATTACH;FMTTYPE=image/jpeg:https://breathemiami.us/wp-content/uploads/2024/
 07/The-Ultimate-Seafood-Experience.jpg
CATEGORIES:Food &amp; Drink Events,Things To Do
LOCATION:Southwest 20th Way\, Southwest 20th Way Dania Beach\, Miami\, Flor
 ida\, 33129\, FL \, United States
X-APPLE-STRUCTURED-LOCATION;VALUE=URI;X-ADDRESS=Southwest 20th Way Dania Be
 ach\, Miami\, Florida\, 33129\, FL \, United States;X-APPLE-RADIUS=100;X-T
 ITLE=Southwest 20th Way:geo:0,0
END:VEVENT
BEGIN:VTIMEZONE
TZID:America/New_York
X-LIC-LOCATION:America/New_York
BEGIN:DAYLIGHT
DTSTART:20240310T030000
TZOFFSETFROM:-0500
TZOFFSETTO:-0400
TZNAME:EDT
END:DAYLIGHT
END:VTIMEZONE
END:VCALENDAR