BEGIN:VCALENDAR
VERSION:2.0
PRODID:-//wp-events-plugin.com//7.2.3.1//EN
TZID:America/New_York
X-WR-TIMEZONE:America/New_York
BEGIN:VEVENT
UID:1405@breathemiami.us
DTSTART;TZID=America/New_York:20251213T123000
DTEND;TZID=America/New_York:20251213T220000
DTSTAMP:20251126T182631Z
URL:https://breathemiami.us/events/the-racquet-classic-presented-by-moonpa
 y-20251013/
SUMMARY:The Racquet Classic Presented By MoonPay
DESCRIPTION:Padel. Wellness. Party.\nTickets:\nGeneral Admission: $30\n\nPl
 ayer Pass (2 Players): $200\n\nGET TICKETS\n\n&nbsp\;\nTournament Details:
 \n\n 	Three divisions: Womens\, Intermediate &amp\; Open (Adv)\n 	16 teams
  per division\n 	4 groups of 4 teams per division (A\, B\, C\, and D)\n 	E
 ach match will be played as first to 6 games with tie break at 5-5 and no 
 ad scoring (golden point)\n 	$5\,000 in cash prizes\n 	🏆 Additional pri
 zes: Siux Racquets\, Replay Club Credits\, Courts Club x Vessel Padel Bags
 \, &amp\; more\n\nTournament Registration Deadline: Wednesday\, Dec 10th\
 nActivities Off The Court - (included with GA ticket)\n\n 	Wellness: reco
 very lounge\, IV therapy\, &amp\; more\n 	Brand activations &amp\; gifting
  from our favorite partners\n 	MoonPay Racquet Club—full mezzanine takeo
 ver\n 	DJ sets\, cocktails\, and good vibes\n 	Barebells open play courts\
 n 	and more!\n\nNote: This event is 18+.\nEvent Sponsors:\nMoonPay\, Bare
 bells\, NOCCO\, Aqua+\, LALO\, Surfside\, Giesen 0%\, ZBiotics\, Alma Ma
 tcha\, Dolce Glow\, Sunnee Bae Skin\, SaveMyPlay\, USA Sports Med\, &amp\;
  more TBA\nEvent Location:\nThe Replay Club – 6600 High Ridge Way\, Boyn
 ton Beach\, FL 33426\nEvent Dress Code:\nTennis Chic - Elevated Athleisure
 \n\n[video width="540" height="960" mp4="https://breathemiami.us/wp-conten
 t/uploads/2025/11/Replay-v.1.mp4"][/video]
ATTACH;FMTTYPE=image/jpeg:https://breathemiami.us/wp-content/uploads/2025/
 11/courts_club_raquet_classic_by_moonpay_20251213.png
CATEGORIES:Featured Events,Sports &amp; Fitness Events,Things To Do
LOCATION:The Replay Club\, 6600 High Ridge Way\, Boynton Beach\, FL\, 33426
 \, United States
X-APPLE-STRUCTURED-LOCATION;VALUE=URI;X-ADDRESS=6600 High Ridge Way\, Boynt
 on Beach\, FL\, 33426\, United States;X-APPLE-RADIUS=100;X-TITLE=The Repla
 y Club:geo:0,0
END:VEVENT
BEGIN:VTIMEZONE
TZID:America/New_York
X-LIC-LOCATION:America/New_York
BEGIN:STANDARD
DTSTART:20251102T010000
TZOFFSETFROM:-0400
TZOFFSETTO:-0500
TZNAME:EST
END:STANDARD
END:VTIMEZONE
END:VCALENDAR