BEGIN:VCALENDAR
VERSION:2.0
PRODID:-//wp-events-plugin.com//7.2.3.1//EN
TZID:America/New_York
X-WR-TIMEZONE:America/New_York
BEGIN:VEVENT
UID:744@breathemiami.us
DTSTART;TZID=America/New_York:20240828T090000
DTEND;TZID=America/New_York:20240928T130000
DTSTAMP:20240824T070829Z
URL:https://breathemiami.us/events/the-music-of-the-winds-a-wellness-day-r
 etreat/
SUMMARY:The Music of the Winds - A Wellness Day Retreat
DESCRIPTION:Embark on a transformative journey with "The Music of the Winds
 : A Wellness Day Retreat" on August 28\, 2024. Hosted by Yoga Rhythms Retr
 eats\, this unique event blends Sacred Cacao\, Vinyasa Yoga\, and Sound an
 d Multidimensional Healing for a day of profound rejuvenation.\n\nEvent Hi
 ghlights:\n\n 	Sacred Cacao Ceremony: Begin your retreat with a ceremonial
  dose of Sacred Cacao\, renowned for its heart-opening and grounding prope
 rties. This ancient elixir sets the stage for deep emotional release and c
 onnection.\n 	Vinyasa Yoga Sessions: Flow through invigorating Vinyasa Yog
 a sessions designed to harmonize the body and mind. Each movement is caref
 ully crafted to enhance your physical well-being and inner peace.\n 	Sound
  Healing: Experience the ethereal tones of Native Flutes and the melodic v
 ibrations of the guitar. These sounds will guide you through a meditative 
 journey\, connecting you to the rhythms of nature and your own spirit.\n 	
 Multidimensional Healing Work: Engage in transformative healing practices 
 that address various layers of your being\, fostering profound personal gr
 owth and renewal.\n\nImmerse yourself in an environment designed for relax
 ation and self-care. The retreat offers a serene escape from daily life\, 
 allowing you to unwind and focus on your well-being. Through calming music
 \, gentle yoga\, and mindfulness activities\, you'll leave feeling refresh
 ed\, renewed\, and deeply nourished.\n\nJoin us for a day dedicated to nur
 turing your mind\, body\, and soul. Don’t miss this opportunity to recon
 nect with yourself and embrace the healing power of nature’s rhythms.\n\
 nGET TICKETS\n
ATTACH;FMTTYPE=image/jpeg:https://breathemiami.us/wp-content/uploads/2024/
 08/The-Music-of-the-Winds-A-Wellness-Day-Retreat.jpg
CATEGORIES:Mindfulness Events,Things To Do
LOCATION:Beachcomber Resort and Villas\, 1200 South Ocean Boulevard Pompano
  Beach\, Miami\, Florida\, 33062\, FL\, United States
X-APPLE-STRUCTURED-LOCATION;VALUE=URI;X-ADDRESS=1200 South Ocean Boulevard 
 Pompano Beach\, Miami\, Florida\, 33062\, FL\, United States;X-APPLE-RADIU
 S=100;X-TITLE=Beachcomber Resort and Villas:geo:0,0
END:VEVENT
BEGIN:VTIMEZONE
TZID:America/New_York
X-LIC-LOCATION:America/New_York
BEGIN:DAYLIGHT
DTSTART:20240310T030000
TZOFFSETFROM:-0500
TZOFFSETTO:-0400
TZNAME:EDT
END:DAYLIGHT
END:VTIMEZONE
END:VCALENDAR