BEGIN:VCALENDAR
VERSION:2.0
PRODID:-//wp-events-plugin.com//7.2.3.1//EN
TZID:America/New_York
X-WR-TIMEZONE:America/New_York
BEGIN:VEVENT
UID:178@breathemiami.us
DTSTART;TZID=America/New_York:20231111T180000
DTEND;TZID=America/New_York:20240101T220000
DTSTAMP:20231105T022720Z
URL:https://breathemiami.us/events/the-magic-of-lights-at-homestead-miami-
 speedway/
SUMMARY:The Magic of Lights at Homestead Miami Speedway
DESCRIPTION:This holiday season\, get ready to be enchanted as Homestead-Mi
 ami Speedway undergoes a magical transformation! Experience the breathtaki
 ng Magic of Lights\, a one-of-a-kind drive-through holiday lights extravag
 anza designed to kindle the festive spirit. Gather your loved ones\, hop i
 n your car\, and embark on a mesmerizing journey through a dazzling wonder
 land of lights. At every twist and turn\, the enchanting path comes alive 
 with magnificent light displays that capture your favorite holiday themes 
 and characters\, igniting the joy and wonder of the season.\n\nMagic of Li
 ghts runs daily\, delighting visitors from November 18th to January 1st. T
 he experience opens its gates from 6:00 PM to 10:00 PM ET\, ensuring you h
 ave ample time to immerse yourself in the holiday magic. Don't miss this e
 xtraordinary opportunity to celebrate the season with a touch of enchantme
 nt and a car full of smiles.\n\n&nbsp\;\n\n&nbsp\;\n\nGET TICKETS\n\n\n\n\
 n\n
ATTACH;FMTTYPE=image/jpeg:https://breathemiami.us/wp-content/uploads/2023/
 11/hms-magic-of-lights-1024x512-1-1024x500-1.jpg
CATEGORIES:Things To Do
LOCATION:Homestead-Miami Speedway\, One Ralph Sanchez\, Speedway Blvd\, \, 
 Homestead\, Florida\, 33045\, United States
X-APPLE-STRUCTURED-LOCATION;VALUE=URI;X-ADDRESS=One Ralph Sanchez\, Speedwa
 y Blvd\, \, Homestead\, Florida\, 33045\, United States;X-APPLE-RADIUS=100
 ;X-TITLE=Homestead-Miami Speedway:geo:0,0
END:VEVENT
BEGIN:VTIMEZONE
TZID:America/New_York
X-LIC-LOCATION:America/New_York
BEGIN:STANDARD
DTSTART:20231105T010000
TZOFFSETFROM:-0400
TZOFFSETTO:-0500
TZNAME:EST
END:STANDARD
END:VTIMEZONE
END:VCALENDAR