BEGIN:VCALENDAR
VERSION:2.0
PRODID:-//wp-events-plugin.com//7.2.3.1//EN
TZID:America/New_York
X-WR-TIMEZONE:America/New_York
BEGIN:VEVENT
UID:144@breathemiami.us
DTSTART;TZID=America/New_York:20241017T190000
DTEND;TZID=America/New_York:20241017T220000
DTSTAMP:20240926T174600Z
URL:https://breathemiami.us/events/the-haunting-hour-unveil-unlock-unwind/
SUMMARY:The Haunting Hour: Unveil\, Unlock\, Unwind
DESCRIPTION:Set forth on an extraordinary odyssey into the enigmatic depths
  of Fairchild Tropical Botanic Garden\, where the worlds of mystery and mi
 xology intertwine seamlessly. As you traverse this captivating landscape\,
  you'll unearth concealed messages and decipher the garden's closely guard
 ed secrets. Your journey leads you to a concealed speakeasy\, a time capsu
 le preserving an era of clandestine revelry.\n\nPrepare yourself for an ev
 ening that will send shivers down your spine\, featuring a collection of s
 pine-tingling tales\, artfully crafted cocktails\, and enigmatic revelatio
 ns that will linger in your thoughts long after the night has drawn to a c
 lose. This is an invitation to a night of unparalleled adventure\, where t
 he echoes of the past whisper through the foliage\, and every sip is a ste
 p deeper into a world both haunting and unforgettable.\n\nGET TICKETS\n
ATTACH;FMTTYPE=image/jpeg:https://breathemiami.us/wp-content/uploads/2023/
 10/THE-HAUNTING-HOUR.png
LOCATION:Fairchild Tropical Botanic Garden\, 10901 Old Cutler Road\, Miami\
 , Florida\, FL 33156\, United States
X-APPLE-STRUCTURED-LOCATION;VALUE=URI;X-ADDRESS=10901 Old Cutler Road\, Mia
 mi\, Florida\, FL 33156\, United States;X-APPLE-RADIUS=100;X-TITLE=Fairchi
 ld Tropical Botanic Garden:geo:0,0
END:VEVENT
BEGIN:VTIMEZONE
TZID:America/New_York
X-LIC-LOCATION:America/New_York
BEGIN:DAYLIGHT
DTSTART:20240310T030000
TZOFFSETFROM:-0500
TZOFFSETTO:-0400
TZNAME:EDT
END:DAYLIGHT
END:VTIMEZONE
END:VCALENDAR