BEGIN:VCALENDAR
VERSION:2.0
PRODID:-//wp-events-plugin.com//7.2.3.1//EN
TZID:America/New_York
X-WR-TIMEZONE:America/New_York
BEGIN:VEVENT
UID:578@breathemiami.us
DTSTART;TZID=America/New_York:20240718T170000
DTEND;TZID=America/New_York:20240718T190000
DTSTAMP:20240624T071247Z
URL:https://breathemiami.us/events/the-happiest-hour-mocktails-more/
SUMMARY:The Happiest Hour: Mocktails & More
DESCRIPTION:Join Miami's conscious and spiritual community for an evening o
 f connection and camaraderie at the Happiest Hour\, hosted at Love Life Ca
 fe. On Thursday\, July 18\, from 5-7 PM\, this gathering offers a unique o
 pportunity for like-minded individuals to engage in meaningful conversatio
 ns and foster new relationships in a vibrant\, high-energy atmosphere.\n\n
 Event Highlights:\n\n 	Networking and Connection: Meet and mingle with fel
 low spiritually inclined locals who share your interests and values. This 
 is an ideal setting to expand your social circle and deepen your sense of 
 community in Miami.\n 	Relating Exercise: At 5:30 PM\, Kevin Walton will l
 ead a 30-minute relating exercise designed to enhance interpersonal skills
  and deepen connections. Through empowering activities\, participants will
  build trust\, establish confidence\, and prepare for success in various l
 ife situations.\n 	Refreshments: Your ticket includes two drinks\, offerin
 g a choice between a non-alcoholic beverage or a glass of wine. Enjoy thes
 e refreshments as you engage in lively discussions and form new friendship
 s.\n\nAbout the Hosts:\n\nDetails on our hosts will be announced soon\, pr
 omising to add even more excitement to this already enriching event.\n\nWh
 y Attend?\n\n 	Foster Community: Connect with a network of conscious\, spi
 ritually minded individuals.\n 	Develop Skills: Enhance your interpersonal
  skills through guided exercises.\n 	Enjoy Refreshments: Relax with delici
 ous drinks in a welcoming environment.\n 	Enrich Your Summer: Make the mos
 t of your summer by participating in this uplifting and engaging gathering
 .\n\nReserve your spot today and join us for an evening of connection\, gr
 owth\, and enjoyment. We look forward to seeing you at the Happiest Hour!\
 n\nGET TICKETS\n
ATTACH;FMTTYPE=image/jpeg:https://breathemiami.us/wp-content/uploads/2024/
 06/The-Happiest-Hour-Mocktails-More.jpg
CATEGORIES:Food &amp; Drink Events
LOCATION:Love Life Cafe\, 545 Northwest 26th Street Miami\, Miami Beach\, F
 lorida\, 33127\,  FL \, United States
X-APPLE-STRUCTURED-LOCATION;VALUE=URI;X-ADDRESS=545 Northwest 26th Street M
 iami\, Miami Beach\, Florida\, 33127\,  FL \, United States;X-APPLE-RADIUS
 =100;X-TITLE=Love Life Cafe:geo:0,0
END:VEVENT
BEGIN:VTIMEZONE
TZID:America/New_York
X-LIC-LOCATION:America/New_York
BEGIN:DAYLIGHT
DTSTART:20240310T030000
TZOFFSETFROM:-0500
TZOFFSETTO:-0400
TZNAME:EDT
END:DAYLIGHT
END:VTIMEZONE
END:VCALENDAR