BEGIN:VCALENDAR
VERSION:2.0
PRODID:-//wp-events-plugin.com//7.2.3.1//EN
TZID:America/New_York
X-WR-TIMEZONE:America/New_York
BEGIN:VEVENT
UID:1023@breathemiami.us
DTSTART;TZID=America/New_York:20241107T170000
DTEND;TZID=America/New_York:20241107T190000
DTSTAMP:20241008T091813Z
URL:https://breathemiami.us/events/the-happiest-hour-mocktails-more-3/
SUMMARY:The Happiest Hour: Mocktails & More
DESCRIPTION:The Happiest Hour: Mocktails &amp\; More is a vibrant gathering
  for Miami's conscious and spiritual community at Love Life Cafe. This eve
 nt is designed to foster meaningful connections and conversations among li
 ke-minded individuals\, providing an inspiring and high-vibe atmosphere. T
 he event includes a special relating exercise aimed at deepening connectio
 ns among participants\, making it an ideal opportunity for spiritually inc
 lined locals to meet and mingle.\n\nEvent Hosts:\nThe event features a rem
 arkable group of wellness experts\, spiritual leaders\, and entrepreneurs:
 \n\n 	Agustina Caminos\, Wellness Director at Faena Group\, Spa Director a
 t Faena Hotel Miami Beach\, and Pranic Healing instructor.\n 	Aldo Jaquez\
 , a certified Breathwork and Meditation teacher\, Mindset coach from the D
 ominican Republic\, and hospitality expert.\n 	Alexandra Sheth\, Founder o
 f Sheth Studios\, LLC\, with expertise in Neuroscience and Public Health\,
  offering somatic-based mental health classes.\n 	Brenda Berys\, CEO of Bu
 t of Course Productions\, known for immersive events focused on personal a
 nd business growth.\n 	Brittany Berger\, Founder of The Mindful Music Lab\
 , combining music and wellness to promote mental health in the music indus
 try.\n 	Brooke Gramer\, life coach and event expert with over 12 years in 
 the field\, passionate about creating impactful experiences.\n 	Edan Harar
 i\, Founder of Kinetic Body Therapy\, known for his expertise in manual th
 erapy and energy work.\n 	Emily Bench\, Co-founder of Pilathon\, one of Mi
 ami’s top Pilates studios\, and a certified Health Coach.\n 	Emilia Gart
 h\, a global singer and artist whose music is featured at retreats and fes
 tivals\, blending Indigenous chants and meditative songs.\n 	Dr. Frank And
 erson\, Professor and Chair at Florida International University's Herbert 
 Wertheim College of Medicine\, expert in meditation and mindfulness.\n 	Ja
 red Bistrong\, Director of the Miami Sound Institute and pioneer in Sound 
 Healing\, known for large-scale healing events.\n 	Kathy Wong\, certified 
 health and wellness coach and relationship therapist\, using the Gottman M
 ethod to help clients achieve mind-body alignment.\n 	Laura Luque\, a phys
 ician and alternative medicine practitioner specializing in sound facilita
 tion and holistic health.\n 	LeoM\, a sound therapist and yoga instructor 
 dedicated to raising vibrations through healing practices.\n 	Dr. Lindsay 
 Bira\, Ph.D.\, clinical psychologist\, and founder of Ocean Oriented™ Ex
 peditions\, specializing in trauma and resilience through freediving.\n 	L
 uchi Estevez\, a cosmic healer offering personalized healing and light act
 ivation experiences.\n 	Myk Likhov\, Founder of Modern ŌM\, a leading fig
 ure in Miami’s wellness community with 17 years of experience.\n 	Namrat
 a Milan\, spiritual entrepreneur and advanced yoga teacher\, committed to 
 guiding others toward inner peace through ancient wisdom.\n 	Paula Landron
 \, breathwork facilitator and fitness instructor\, passionate about wellne
 ss and leading healthier lives.\n 	Sam Reynolds\, yoga teacher and founder
  of Cafe Namaste\, focused on building a wellness community.\n 	Taylor Pas
 coe\, conscious community connector and financial fundraising leader for C
 onde Nast and Sports Illustrated Resorts.\n 	Tiffany Levy\, a dedicated yo
 ga and mindfulness expert\, wellness retreat leader\, and Pranic healing p
 ractitioner.\n\nFacilitator: TBA\n\nWhere: Love Life Cafe\, 545 Northwest 
 26th Street\, Miami\, FL 33127.\n\nParking: Paid street parking available 
 in Wynwood.\n\nWhat to bring: An open heart and willingness to connect.\n\
 nTicket Options:\n\n 	Relating Exercise + 2 Beverages\n 	Relating Exercise
  Only\n\nAbout Modern ŌM:\nSince 2015\, Modern ŌM has been a hub for spi
 ritual wellness in Miami\, hosting over 20 events per month\, along with r
 etreats\, trainings\, and curated merchandise. The community is made up of
  entrepreneurs\, creatives\, and professionals focused on spiritual growth
  and well-being.\n\nFollow Modern ŌM on Eventbrite\, Instagram\, TikTok\,
  and Miami Telegram to stay connected.\n\nCommunity Praise:\n\n 	"I love t
 he community\, I love the vibe of Modern ŌM!!" - Seema\n 	"I highly recom
 mend this membership - you will not regret it!" - Nadine\n 	"You can reall
 y tell Modern ŌM truly cares about its community and the conscious evolut
 ion of its members. Thank you!" - Alessandra\n\n\nGET TICKETS\n
ATTACH;FMTTYPE=image/jpeg:https://breathemiami.us/wp-content/uploads/2024/
 10/The-Happiest-Hour-Mocktails-More-1.jpg
CATEGORIES:Wellness Events
LOCATION:Love Life Cafe\, 545 Northwest 26th Street Miami\, Miami\, Florida
 \, 33127\, United States
X-APPLE-STRUCTURED-LOCATION;VALUE=URI;X-ADDRESS=545 Northwest 26th Street M
 iami\, Miami\, Florida\, 33127\, United States;X-APPLE-RADIUS=100;X-TITLE=
 Love Life Cafe:geo:0,0
END:VEVENT
BEGIN:VTIMEZONE
TZID:America/New_York
X-LIC-LOCATION:America/New_York
BEGIN:STANDARD
DTSTART:20241103T010000
TZOFFSETFROM:-0400
TZOFFSETTO:-0500
TZNAME:EST
END:STANDARD
END:VTIMEZONE
END:VCALENDAR