BEGIN:VCALENDAR
VERSION:2.0
PRODID:-//wp-events-plugin.com//7.2.3.1//EN
TZID:America/New_York
X-WR-TIMEZONE:America/New_York
BEGIN:VEVENT
UID:1144@breathemiami.us
DTSTART;TZID=America/New_York:20241117T063000
DTEND;TZID=America/New_York:20241117T073000
DTSTAMP:20241023T083442Z
URL:https://breathemiami.us/events/the-golden-hour-a-goddess-sunrise-beach
 -meditation-gathering/
SUMMARY:The 'Golden Hour': A Goddess Sunrise Beach Meditation + Gathering
DESCRIPTION:Join the Brown Goddess Collective™ for an uplifting community
  event\, the "Golden Hour" sunrise meditation and gathering\, happening ev
 ery third Sunday of the month at North Beach\, Miami (7275 Collins Ave).\n
 \nThis serene 1-hour monthly practice offers a sacred time to connect with
  yourself\, the community\, nature\, and the divine as the sun rises over 
 the horizon. Held during the magical Golden Hour\, the session invites par
 ticipants to set a positive tone for their day through mindful movement\, 
 intentional breathing\, silent contemplation\, and self-reflection.\n\nThe
  benefits of sunrise meditations are vast and include improved focus\, red
 uced stress and anxiety\, enhanced overall health\, and a sense of inner p
 eace. It’s a moment to align with nature and create space for growth\, c
 larity\, and healing.\n\nLed by rotating teachers and facilitators from th
 e BGC™ team\, each session will follow a structured agenda but offer a f
 resh experience with different elements. The compassionate guides will hol
 d space for the group in their unique way\, making the practice accessible
  to everyone\, regardless of experience level.\n\nKey Highlights: ✨ A pe
 aceful opportunity to connect with yourself\, your community\, and nature 
 during the sacred early morning hours.\n✨ Experience the profound benefi
 ts of mindful movement\, breathwork\, and meditation\, enhancing mental cl
 arity and emotional well-being.\n✨ Each session is led by a rotating tea
 m of dedicated instructors\, ensuring a new and enriching experience every
  time.\n✨ No prior experience is needed—this gathering welcomes all po
 sitive souls who seek connection and tranquility.\n\nLocation &amp\; Detai
 ls:\n📍 North Beach\, 7275 Collins Ave\, Miami Beach\, FL\n🚗 Parking:
  Suggested lot P92 (72nd St. + Collins Ave)\n🗓️ Every 3rd Sunday of t
 he month\n⏰ Start Time: 1 hour at sunrise\n\nWhether you're looking to s
 tart your day with peace\, clarity\, or connection\, this event promises a
  transformative experience. Don’t miss the chance to join a community of
  like-minded individuals as you greet the morning sun and begin your day w
 ith intention.\n\nAll are welcome to come and share in the warmth and ener
 gy of the Golden Hour with the Brown Goddess Collective™.\n\nGET TICKETS
 \n
ATTACH;FMTTYPE=image/jpeg:https://breathemiami.us/wp-content/uploads/2024/
 10/The-Golden-Hour-A-Goddess-Sunrise-Beach-Meditation-Gathering.jpg
CATEGORIES:Wellness Events
LOCATION:7275 Collins Ave\, 7275 Collins Avenue\, Miami\, Florida\, 33141\,
  FL\, United States
X-APPLE-STRUCTURED-LOCATION;VALUE=URI;X-ADDRESS=7275 Collins Avenue\, Miami
 \, Florida\, 33141\, FL\, United States;X-APPLE-RADIUS=100;X-TITLE=7275 Co
 llins Ave:geo:0,0
END:VEVENT
BEGIN:VTIMEZONE
TZID:America/New_York
X-LIC-LOCATION:America/New_York
BEGIN:STANDARD
DTSTART:20241103T010000
TZOFFSETFROM:-0400
TZOFFSETTO:-0500
TZNAME:EST
END:STANDARD
END:VTIMEZONE
END:VCALENDAR