BEGIN:VCALENDAR
VERSION:2.0
PRODID:-//wp-events-plugin.com//7.2.3.1//EN
TZID:America/New_York
X-WR-TIMEZONE:America/New_York
BEGIN:VEVENT
UID:957@breathemiami.us
DTSTART;TZID=America/New_York:20241025T193000
DTEND;TZID=America/New_York:20241025T213000
DTSTAMP:20241002T171605Z
URL:https://breathemiami.us/events/the-awakening-method-breathwork-bodywor
 k-energy-activation-25-october/
SUMMARY:The Awakening Method: Breathwork\, Bodywork\, Energy Activation •
  25 October
DESCRIPTION:Experience a profound inner transformation with The Awakening M
 ethod\, a holistic therapy that integrates breathwork\, bodywork\, and ene
 rgy activation. Amplified by cutting-edge wireless headphone technology\, 
 this session aims to align your physical\, emotional\, and energetic body\
 , facilitating deep healing and self-awareness.\n\nWhat is The Awakening M
 ethod?\nThis method combines breathwork\, bodywork\, and energy healing\, 
 focusing on the connection between mind\, body\, and spirit. By addressing
  layers of tension and imbalance\, the session helps release stored emotio
 ns and energy blockages\, restoring a natural state of harmony. Rooted in 
 the belief that true healing comes when all aspects of a person are balanc
 ed\, this approach offers a path to complete well-being.\n\nWhy Should You
  Try It?\nParticipating in this therapy provides numerous benefits\, inclu
 ding:\n\n 	Releasing deeply held emotional patterns\n 	Enhancing body awar
 eness and response to physical and emotional needs\n 	Reducing stress and 
 promoting deep relaxation\n 	Alleviating physical discomfort and tension\n
  	Supporting personal transformation by releasing limiting beliefs and fos
 tering authentic growth\n\nWhat to Expect During a Session\nThe session is
  led by experienced facilitators German Moran (@intuishine) and Stef Ungar
 i (@kapbystef)\, who will guide you through a combination of gentle touch\
 , breathwork\, and energy techniques. You’ll be encouraged to relax and 
 tune into your body\, allowing the facilitators to address areas of tensio
 n and help release suppressed emotions. Many participants report a sense o
 f deep relaxation\, emotional clarity\, and a stronger connection with the
 ir physical body. Each session is a step toward greater self-awareness\, h
 ealing\, and personal transformation.\n\nHow to Prepare\n\n 	Arrive on tim
 e\; if you're 15 minutes late\, entry will not be permitted.\n 	Avoid alco
 hol or drugs for 24 hours before the session.\n 	Fast or eat a light juice
  3 hours prior to the session.\n 	Wear comfortable clothing\, and bring a 
 sweater if you tend to feel cold.\n 	A yoga mat is recommended for your co
 mfort.\n\nGet Ready to Expand Your Mind!\nFor more details\, visit:\nwww.i
 ntuishine.com\nInstagram @intuishine\n\nESPAÑOL\nExperimenta un viaje tra
 nsformador con respiración consciente\, trabajo corporal y activación de
  energía.\n\nGET TICKETS\n
ATTACH;FMTTYPE=image/jpeg:https://breathemiami.us/wp-content/uploads/2024/
 10/The-Awakening-Method-Breathwork-Bodywork-Energy-Activation.jpg
CATEGORIES:Wellness Events
LOCATION:CoFitness\, 2700 Biscayne Boulevard\, Miami\, Florida\, 33137\, FL
 \, United States
X-APPLE-STRUCTURED-LOCATION;VALUE=URI;X-ADDRESS=2700 Biscayne Boulevard\, M
 iami\, Florida\, 33137\, FL\, United States;X-APPLE-RADIUS=100;X-TITLE=CoF
 itness:geo:0,0
END:VEVENT
BEGIN:VTIMEZONE
TZID:America/New_York
X-LIC-LOCATION:America/New_York
BEGIN:DAYLIGHT
DTSTART:20240310T030000
TZOFFSETFROM:-0500
TZOFFSETTO:-0400
TZNAME:EDT
END:DAYLIGHT
END:VTIMEZONE
END:VCALENDAR