BEGIN:VCALENDAR
VERSION:2.0
PRODID:-//wp-events-plugin.com//7.2.3.1//EN
TZID:America/New_York
X-WR-TIMEZONE:America/New_York
BEGIN:VEVENT
UID:415@breathemiami.us
DTSTART;TZID=America/New_York:20240422T180000
DTEND;TZID=America/New_York:20240422T193000
DTSTAMP:20240406T142319Z
URL:https://breathemiami.us/events/the-art-of-wellness/
SUMMARY:The Art of Wellness
DESCRIPTION:\nThe Art of Cultivating Wholeness: Unveiling the Art of Wellne
 ss\n"The Art of Wellness" isn't just a phrase\; it's a philosophy\, a jour
 ney of self-discovery\, and a mindful practice of nurturing your mind\, bo
 dy\, and spirit. It's about understanding that true well-being is a master
 piece crafted through a harmonious blend of various elements.\nImagine you
 rself as an artist\, wielding the tools of healthy habits\, self-care ritu
 als\, and a positive mindset. Your canvas? Your very own life. Each stroke
 \, each decision\, shapes your well-being masterpiece.\nThe Art of Wellnes
 s encompasses a vast spectrum of practices:\n\n\n 	Physical Wellness: This
  forms the foundation of your well-being. It involves nourishing your body
  with wholesome foods\, engaging in regular exercise\, and getting suffici
 ent sleep. It's about treating your body as a temple\, respecting its need
 s\, and celebrating its strength.\n 	Mental Wellness: This aspect focuses 
 on cultivating a healthy mind. Practices like mindfulness meditation\, gra
 titude journaling\, and spending time in nature can nurture your mental we
 ll-being. Honing your emotional intelligence and learning to manage stress
  are equally important elements.\n 	Emotional Wellness: This domain explor
 es understanding and expressing your emotions in a healthy way. It involve
 s developing emotional regulation tools\, fostering healthy relationships\
 , and practicing self-compassion.\n 	Spiritual Wellness: This dimension de
 lves into finding meaning and purpose in life. It could involve religious 
 practices\, connecting with nature\, or engaging in activities that spark 
 a sense of inner peace and connection to something larger than oneself.\n\
 nThe Art of Wellness is a personal journey\, not a one-size-fits-all appro
 ach. Each individual needs to discover what practices resonate with them. 
 Perhaps you find solace in yoga\, or maybe invigorating hikes in nature br
 ing you a sense of peace. Maybe meditation works wonders for your stress l
 evels\, or perhaps journaling helps you process emotions. The beauty lies 
 in exploration and finding practices that bring you closer to wholeness.\n
 This pursuit of well-being shouldn't feel like a chore. It's about nurturi
 ng yourself with kindness and curiosity. Explore different practices\, emb
 race activities that spark joy\, and celebrate your progress. There will b
 e days when motivation dips\, and that's perfectly alright. The Art of Wel
 lness is a lifelong practice\, a continuous evolution towards a state of o
 ptimal well-being.\nHere's the key takeaway: You are the artist\, and your
  life is your masterpiece. Embrace the journey of The Art of Wellness\, on
 e mindful step at a time. As you dedicate yourself to this practice\, you'
 ll witness the transformation unfold\, painting a vibrant picture of well-
 being across your mind\, body\, and spirit.\n\n
ATTACH;FMTTYPE=image/jpeg:https://breathemiami.us/wp-content/uploads/2024/
 04/https___cdn.evbuc_.com_images_728874019_2896361596_1_original.jpeg
CATEGORIES:Wellness Events
LOCATION:Miramar Branch Library & Education Center\, 2050 Civic Center Plac
 e\, Miramar\, Florida\, 33025 \, United States
X-APPLE-STRUCTURED-LOCATION;VALUE=URI;X-ADDRESS=2050 Civic Center Place\, M
 iramar\, Florida\, 33025 \, United States;X-APPLE-RADIUS=100;X-TITLE=Miram
 ar Branch Library & Education Center:geo:0,0
END:VEVENT
BEGIN:VTIMEZONE
TZID:America/New_York
X-LIC-LOCATION:America/New_York
BEGIN:DAYLIGHT
DTSTART:20240310T030000
TZOFFSETFROM:-0500
TZOFFSETTO:-0400
TZNAME:EDT
END:DAYLIGHT
END:VTIMEZONE
END:VCALENDAR